BEGIN:VCALENDAR
VERSION:2.0
PRODID:-//aldridgegardens.com//NONSGML kigkonsult.se iCalcreator 2.30.10//
CALSCALE:GREGORIAN
METHOD:PUBLISH
UID:90e056e4-e385-480c-bcb3-579201d8e3d1
X-WR-CALDESC:June 3 - 7\nEntering Grades 5k – 3\n\nUnleash your creativity.
  Think COLOR!\, Think SHAPE\, Think TEXTURE!  THINK FUN!\n\nInstructor: Le
 igh Smith\n\n\n
X-WR-RELCALID:9d2841cf9c87f289a9b29476c99197f2
X-WR-TIMEZONE:America/Chicago
BEGIN:VTIMEZONE
TZID:America/Chicago
BEGIN:STANDARD
TZNAME:CST
DTSTART:20181104T020000
TZOFFSETFROM:-0500
TZOFFSETTO:-0600
RDATE:20191103T020000
RDATE:20201101T020000
END:STANDARD
BEGIN:DAYLIGHT
TZNAME:CDT
DTSTART:20190310T020000
TZOFFSETFROM:-0600
TZOFFSETTO:-0500
RDATE:20200308T020000
END:DAYLIGHT
END:VTIMEZONE
BEGIN:VEVENT
UID:5bbd151c-a192-40d9-8b1b-647c3b6a0e70
DTSTAMP:20260420T075119Z
DESCRIPTION:June 3 - 7\nEntering Grades 5k – 3\n\nUnleash your creativity. 
 Think COLOR!\, Think SHAPE\, Think TEXTURE!  THINK FUN!\n\nInstructor: Lei
 gh Smith\n\n\n
DTSTART;TZID=America/Chicago:20190603T090000
DTEND;TZID=America/Chicago:20190603T120000
LOCATION:
SUMMARY:Summer Camp: Cool Art Grades 5k-3rd
END:VEVENT
END:VCALENDAR
