BEGIN:VCALENDAR
VERSION:2.0
PRODID:-//aldridgegardens.com//NONSGML kigkonsult.se iCalcreator 2.30.10//
CALSCALE:GREGORIAN
METHOD:PUBLISH
UID:2c186b43-ccec-4bd2-be9a-65552826929d
X-WR-CALDESC:June 3-7\nEntering Grades 4th-5th\n\nA paper-based introductio
 n to creating electrical circuits. Light up your Life!\n\nInstructor: Juli
 e Altmark\n\n\n
X-WR-RELCALID:58b70b1594c0db30900d08372bd1f22d
X-WR-TIMEZONE:America/Chicago
BEGIN:VTIMEZONE
TZID:America/Chicago
BEGIN:STANDARD
TZNAME:CST
DTSTART:20181104T020000
TZOFFSETFROM:-0500
TZOFFSETTO:-0600
RDATE:20191103T020000
RDATE:20201101T020000
END:STANDARD
BEGIN:DAYLIGHT
TZNAME:CDT
DTSTART:20190310T020000
TZOFFSETFROM:-0600
TZOFFSETTO:-0500
RDATE:20200308T020000
END:DAYLIGHT
END:VTIMEZONE
BEGIN:VEVENT
UID:9a4ed068-d102-419c-b196-0adc54312d23
DTSTAMP:20260420T074648Z
DESCRIPTION:June 3-7\nEntering Grades 4th-5th\n\nA paper-based introduction
  to creating electrical circuits. Light up your Life!\n\nInstructor: Julie
  Altmark\n\n\n
DTSTART;TZID=America/Chicago:20190603T090000
DTEND;TZID=America/Chicago:20190603T120000
LOCATION:
SUMMARY:Summer Camp: Paper Circuitry Grades 4th-5th
END:VEVENT
END:VCALENDAR
