BEGIN:VCALENDAR
VERSION:2.0
PRODID:-//aldridgegardens.com//NONSGML kigkonsult.se iCalcreator 2.30.10//
CALSCALE:GREGORIAN
METHOD:PUBLISH
UID:426b0ce8-5c9a-4b51-ac36-197927787f87
X-WR-CALDESC:<b>This event is now SOLD OUT! Be sure to get your tickets ear
 ly for our 2020 event.</b>\n\nThis year\, our Hydrangeas Under the Stars e
 vent will be a Celebration in Memory of Eddie Aldridge. \n\nHonorary Host 
 and Hostess Hoover Mayor Frank Brocato and Mrs. Frances Brocato.\n\nJoin u
 s for Hoover's social event of the year under the stars! Make plans now to
  be a part of our premier annual fundraiser and garden gala. Enjoy a speci
 al evening of great food\, entertainment\, with both silent and live aucti
 ons all to benefit Aldridge Gardens. \n\n<b>Reception and silent auction b
 egin at 6:00.\nDinner and live auction begin at 7:30.</b>\n\nDonations obt
 ained throughout the year and through events like Hydrangeas Under the Sta
 rs help our Gardens grow. Your support allows us to continue to provide a 
 unique garden experience by offering exceptional venues for weddings\, par
 ties\, social\, and corporate events\, serving as a source for educational
  field trips\, programs\, and camps for thousands of children each year\, 
 plus being a tranquil destination perfect for walking\, bird watching\, re
 flection and so much more. \n\n<b>Tickets are now on sale!</b> Tables and 
 a limited number of individual tickets are available. Call us for auction 
 item donations\, sponsorship opportunities\, and to find out how you can b
 e part of this terrific night of fun and fundraising! \n\nTo get a better 
 idea of the event\, see photos from one of our past <a href='http://aldrid
 gegardens.com/education/events/annual_events/hydrangeas-under-the-stars.ht
 ml'>Hydrangeas Under the Stars</a> events! \n\n<b>This event is now SOLD O
 UT! Be sure to get your tickets early for our 2020 event.</b>\n
X-WR-RELCALID:13f9625dc7b6e68cf832cb2cebadfc97
X-WR-TIMEZONE:America/Chicago
BEGIN:VTIMEZONE
TZID:America/Chicago
BEGIN:STANDARD
TZNAME:CST
DTSTART:20181104T020000
TZOFFSETFROM:-0500
TZOFFSETTO:-0600
RDATE:20191103T020000
RDATE:20201101T020000
END:STANDARD
BEGIN:DAYLIGHT
TZNAME:CDT
DTSTART:20190310T020000
TZOFFSETFROM:-0600
TZOFFSETTO:-0500
RDATE:20200308T020000
END:DAYLIGHT
END:VTIMEZONE
BEGIN:VEVENT
UID:26ef22a6-ae70-4054-90a1-9faec8b83a75
DTSTAMP:20260420T072641Z
DESCRIPTION:<b>This event is now SOLD OUT! Be sure to get your tickets earl
 y for our 2020 event.</b>\n\nThis year\, our Hydrangeas Under the Stars ev
 ent will be a Celebration in Memory of Eddie Aldridge. \n\nHonorary Host a
 nd Hostess Hoover Mayor Frank Brocato and Mrs. Frances Brocato.\n\nJoin us
  for Hoover's social event of the year under the stars! Make plans now to 
 be a part of our premier annual fundraiser and garden gala. Enjoy a specia
 l evening of great food\, entertainment\, with both silent and live auctio
 ns all to benefit Aldridge Gardens. \n\n<b>Reception and silent auction be
 gin at 6:00.\nDinner and live auction begin at 7:30.</b>\n\nDonations obta
 ined throughout the year and through events like Hydrangeas Under the Star
 s help our Gardens grow. Your support allows us to continue to provide a u
 nique garden experience by offering exceptional venues for weddings\, part
 ies\, social\, and corporate events\, serving as a source for educational 
 field trips\, programs\, and camps for thousands of children each year\, p
 lus being a tranquil destination perfect for walking\, bird watching\, ref
 lection and so much more. \n\n<b>Tickets are now on sale!</b> Tables and a
  limited number of individual tickets are available. Call us for auction i
 tem donations\, sponsorship opportunities\, and to find out how you can be
  part of this terrific night of fun and fundraising! \n\nTo get a better i
 dea of the event\, see photos from one of our past <a href='http://aldridg
 egardens.com/education/events/annual_events/hydrangeas-under-the-stars.htm
 l'>Hydrangeas Under the Stars</a> events! \n\n<b>This event is now SOLD OU
 T! Be sure to get your tickets early for our 2020 event.</b>\n
DTSTART;TZID=America/Chicago:20190608T180000
DTEND;TZID=America/Chicago:20190608T210000
LOCATION:
SUMMARY:Hydrangeas Under the Stars
END:VEVENT
END:VCALENDAR
