BEGIN:VCALENDAR
VERSION:2.0
PRODID:-//aldridgegardens.com//NONSGML kigkonsult.se iCalcreator 2.30.10//
CALSCALE:GREGORIAN
METHOD:PUBLISH
UID:b662d1f2-f1b7-47c3-8426-17aa68793f1d
X-WR-CALDESC:June 10 - 14\nEntering Grades 5k – 3\n\nIt’s time for summer! 
 Girls\, are you ready for some fun? Bring your doll to camp at Aldridge Ga
 rdens. (May also include My Life or Our Generation Dolls.) You and your do
 ll will explore the magic of the Gardens\, you’ll make all kinds of access
 ories and crafts for you and your dolls\, and even have a tea party!  Join
  us as we make new friends and great memories!\n\nInstructor: Ki Shin\n\n
 \n
X-WR-RELCALID:b4ce1e43b4f898f5271f71acc50a1450
X-WR-TIMEZONE:America/Chicago
BEGIN:VTIMEZONE
TZID:America/Chicago
BEGIN:STANDARD
TZNAME:CST
DTSTART:20181104T020000
TZOFFSETFROM:-0500
TZOFFSETTO:-0600
RDATE:20191103T020000
RDATE:20201101T020000
END:STANDARD
BEGIN:DAYLIGHT
TZNAME:CDT
DTSTART:20190310T020000
TZOFFSETFROM:-0600
TZOFFSETTO:-0500
RDATE:20200308T020000
END:DAYLIGHT
END:VTIMEZONE
BEGIN:VEVENT
UID:7adeb58f-b5d5-4d95-9c72-d5ec93de1124
DTSTAMP:20260420T072156Z
DESCRIPTION:June 10 - 14\nEntering Grades 5k – 3\n\nIt’s time for summer! G
 irls\, are you ready for some fun? Bring your doll to camp at Aldridge Gar
 dens. (May also include My Life or Our Generation Dolls.) You and your dol
 l will explore the magic of the Gardens\, you’ll make all kinds of accesso
 ries and crafts for you and your dolls\, and even have a tea party!  Join 
 us as we make new friends and great memories!\n\nInstructor: Ki Shin\n\n\n
DTSTART;TZID=America/Chicago:20190610T090000
DTEND;TZID=America/Chicago:20190610T120000
LOCATION:
SUMMARY:Summer Camp: American Girl Dolls Grades 5k-3rd
END:VEVENT
END:VCALENDAR
