BEGIN:VCALENDAR
VERSION:2.0
PRODID:-//aldridgegardens.com//NONSGML kigkonsult.se iCalcreator 2.30.10//
CALSCALE:GREGORIAN
METHOD:PUBLISH
UID:0fa05078-3e17-407d-a8d8-702f5234e3df
X-WR-CALDESC:June 10 - 14\nEntering Grades 5k – 3\n\nUnleash your creativit
 y. Think COLOR!\, Think SHAPE\, Think TEXTURE!  THINK FUN!\n\nInstructor: 
 Leigh Smith\n\n<b>This event has been cancelled.</b>\n
X-WR-RELCALID:21e5a9d5ccedd5344d478ebee9f209aa
X-WR-TIMEZONE:America/Chicago
BEGIN:VTIMEZONE
TZID:America/Chicago
BEGIN:STANDARD
TZNAME:CST
DTSTART:20181104T020000
TZOFFSETFROM:-0500
TZOFFSETTO:-0600
RDATE:20191103T020000
RDATE:20201101T020000
END:STANDARD
BEGIN:DAYLIGHT
TZNAME:CDT
DTSTART:20190310T020000
TZOFFSETFROM:-0600
TZOFFSETTO:-0500
RDATE:20200308T020000
END:DAYLIGHT
END:VTIMEZONE
BEGIN:VEVENT
UID:b03e0a02-daaf-438e-949c-e4139d041a46
DTSTAMP:20260420T072143Z
DESCRIPTION:June 10 - 14\nEntering Grades 5k – 3\n\nUnleash your creativity
 . Think COLOR!\, Think SHAPE\, Think TEXTURE!  THINK FUN!\n\nInstructor: L
 eigh Smith\n\n<b>This event has been cancelled.</b>\n
DTSTART;TZID=America/Chicago:20190610T090000
DTEND;TZID=America/Chicago:20190610T120000
LOCATION:
SUMMARY:Summer Camp: Cool Art Grades 5k-3rd
END:VEVENT
END:VCALENDAR
