BEGIN:VCALENDAR
VERSION:2.0
PRODID:-//aldridgegardens.com//NONSGML kigkonsult.se iCalcreator 2.30.10//
CALSCALE:GREGORIAN
METHOD:PUBLISH
UID:18b958a2-3fd5-4853-b84f-7ee29fe9c84e
X-WR-CALDESC:June 10 - 14\nEntering Grades 5k – 3\n\nExplore some myths and
  questions about the natural world in our backyard!  This may get a little
  messy! \n\nInstructor: Kayla Latuso.  \n\n\n
X-WR-RELCALID:f26ef17c5eba0fd3710ba160785e4bee
X-WR-TIMEZONE:America/Chicago
BEGIN:VTIMEZONE
TZID:America/Chicago
BEGIN:STANDARD
TZNAME:CST
DTSTART:20181104T020000
TZOFFSETFROM:-0500
TZOFFSETTO:-0600
RDATE:20191103T020000
RDATE:20201101T020000
END:STANDARD
BEGIN:DAYLIGHT
TZNAME:CDT
DTSTART:20190310T020000
TZOFFSETFROM:-0600
TZOFFSETTO:-0500
RDATE:20200308T020000
END:DAYLIGHT
END:VTIMEZONE
BEGIN:VEVENT
UID:599a5029-cb5f-4fee-92f3-6e9c6acc5adc
DTSTAMP:20260420T072143Z
DESCRIPTION:June 10 - 14\nEntering Grades 5k – 3\n\nExplore some myths and 
 questions about the natural world in our backyard!  This may get a little 
 messy! \n\nInstructor: Kayla Latuso.  \n\n\n
DTSTART;TZID=America/Chicago:20190610T090000
DTEND;TZID=America/Chicago:20190610T120000
LOCATION:
SUMMARY:Summer Camp: Myth Busters Grades 5k-3rd
END:VEVENT
END:VCALENDAR
