BEGIN:VCALENDAR
VERSION:2.0
PRODID:-//aldridgegardens.com//NONSGML kigkonsult.se iCalcreator 2.30.10//
CALSCALE:GREGORIAN
METHOD:PUBLISH
UID:86abff0a-aae5-41f5-9e9b-496e5ca695d9
X-WR-CALDESC:June 10 - 14\nEntering Grades 4th-5th\n\nUse Science\, Tech\, 
 Engineering\, Art\, and Math in all sorts of creative ways in the Gardens.
 \n\nInstructor: Cadie Frazier\n\n\n
X-WR-RELCALID:21f3fc8690d55c1491b0786c28b4a49a
X-WR-TIMEZONE:America/Chicago
BEGIN:VTIMEZONE
TZID:America/Chicago
BEGIN:STANDARD
TZNAME:CST
DTSTART:20181104T020000
TZOFFSETFROM:-0500
TZOFFSETTO:-0600
RDATE:20191103T020000
RDATE:20201101T020000
END:STANDARD
BEGIN:DAYLIGHT
TZNAME:CDT
DTSTART:20190310T020000
TZOFFSETFROM:-0600
TZOFFSETTO:-0500
RDATE:20200308T020000
END:DAYLIGHT
END:VTIMEZONE
BEGIN:VEVENT
UID:c7812dca-77ef-44d6-aa95-a812e54a7e22
DTSTAMP:20260420T073906Z
DESCRIPTION:June 10 - 14\nEntering Grades 4th-5th\n\nUse Science\, Tech\, E
 ngineering\, Art\, and Math in all sorts of creative ways in the Gardens.
 \n\nInstructor: Cadie Frazier\n\n\n
DTSTART;TZID=America/Chicago:20190610T090000
DTEND;TZID=America/Chicago:20190610T120000
LOCATION:
SUMMARY:Summer Camp: S.T.E.A.M. Lab Grades 4th-5th
END:VEVENT
END:VCALENDAR
