BEGIN:VCALENDAR
VERSION:2.0
PRODID:-//aldridgegardens.com//NONSGML kigkonsult.se iCalcreator 2.30.10//
CALSCALE:GREGORIAN
METHOD:PUBLISH
UID:3ab4d7d2-93a2-495b-b050-b7b35f236397
X-WR-CALDESC:The works of Miriam McClung\, a Birmingham native who has been
  painting in the Southeast for over sixty years\, will be displayed and av
 ailable for sale in the gallery during June and July. Her art reflects the
  beauty of God that she sees in the ordinary things of life.\n\nJoin us fo
 r a reception to meet her personally and hear about her art directly from 
 the artist. \n\n
X-WR-RELCALID:ccd89b7209ee7927f38516adba59dda7
X-WR-TIMEZONE:America/Chicago
BEGIN:VTIMEZONE
TZID:America/Chicago
BEGIN:STANDARD
TZNAME:CST
DTSTART:20181104T020000
TZOFFSETFROM:-0500
TZOFFSETTO:-0600
RDATE:20191103T020000
RDATE:20201101T020000
END:STANDARD
BEGIN:DAYLIGHT
TZNAME:CDT
DTSTART:20190310T020000
TZOFFSETFROM:-0600
TZOFFSETTO:-0500
RDATE:20200308T020000
END:DAYLIGHT
END:VTIMEZONE
BEGIN:VEVENT
UID:affecda7-0ede-4f53-a02e-c2315be8e681
DTSTAMP:20260420T072728Z
DESCRIPTION:The works of Miriam McClung\, a Birmingham native who has been 
 painting in the Southeast for over sixty years\, will be displayed and ava
 ilable for sale in the gallery during June and July. Her art reflects the 
 beauty of God that she sees in the ordinary things of life.\n\nJoin us for
  a reception to meet her personally and hear about her art directly from t
 he artist. \n\n
DTSTART;TZID=America/Chicago:20190611T180000
DTEND;TZID=America/Chicago:20190611T190000
LOCATION:Eddie and Kay Aldridge Arts and Historical Collections Museum
SUMMARY:Meet the Artist Reception - Miriam McClung
END:VEVENT
END:VCALENDAR
