BEGIN:VCALENDAR
VERSION:2.0
PRODID:-//aldridgegardens.com//NONSGML kigkonsult.se iCalcreator 2.30.10//
CALSCALE:GREGORIAN
METHOD:PUBLISH
UID:e8ebf045-8da6-4934-9af1-e4b0777fe81e
X-WR-CALDESC:Propagator level members will enjoy their monthly wine recepti
 on while mixing and mingling with the artist. \n\n<b>About the Artist</b>
 \nThe works of Miriam McClung\, a Birmingham native who has been painting 
 in the Southeast for over sixty years\, will be displayed and available fo
 r sale in the gallery during June and July. Her art reflects the beauty of
  God that she sees in the ordinary things of life. Join us for a reception
  to meet her personally and hear about her art directly from the artist. 
 \n\n<b>This propagator member event will roll into the general artists rec
 eption beginning at 6 p.m. </b>\n
X-WR-RELCALID:2ec30463d209f93718ed83c5ca626200
X-WR-TIMEZONE:America/Chicago
BEGIN:VTIMEZONE
TZID:America/Chicago
BEGIN:STANDARD
TZNAME:CST
DTSTART:20181104T020000
TZOFFSETFROM:-0500
TZOFFSETTO:-0600
RDATE:20191103T020000
RDATE:20201101T020000
END:STANDARD
BEGIN:DAYLIGHT
TZNAME:CDT
DTSTART:20190310T020000
TZOFFSETFROM:-0600
TZOFFSETTO:-0500
RDATE:20200308T020000
END:DAYLIGHT
END:VTIMEZONE
BEGIN:VEVENT
UID:bd0c116b-babc-406e-ab5b-6f427e5b0265
DTSTAMP:20260420T072614Z
DESCRIPTION:Propagator level members will enjoy their monthly wine receptio
 n while mixing and mingling with the artist. \n\n<b>About the Artist</b>\n
 The works of Miriam McClung\, a Birmingham native who has been painting in
  the Southeast for over sixty years\, will be displayed and available for 
 sale in the gallery during June and July. Her art reflects the beauty of G
 od that she sees in the ordinary things of life. Join us for a reception t
 o meet her personally and hear about her art directly from the artist. \n
 \n<b>This propagator member event will roll into the general artists recep
 tion beginning at 6 p.m. </b>\n
DTSTART;TZID=America/Chicago:20190611T170000
DTEND;TZID=America/Chicago:20190611T180000
LOCATION:Eddie and Kay Aldridge Arts and Historical Collections Museum
SUMMARY:Propagator Wine Reception - Miriam McClung
END:VEVENT
END:VCALENDAR
