BEGIN:VCALENDAR
VERSION:2.0
PRODID:-//aldridgegardens.com//NONSGML kigkonsult.se iCalcreator 2.30.10//
CALSCALE:GREGORIAN
METHOD:PUBLISH
UID:b2b65686-45ed-4045-b10d-478c95b5edcc
X-WR-CALDESC:June 17 - 21\nEntering Grades 5k – 3\n\nIt’s time for summer! 
 Girls\, are you ready for some fun? Bring your doll to camp at Aldridge Ga
 rdens. (May also include My Life or Our Generation Dolls.) You and your do
 ll will explore the magic of the Gardens\, you’ll make all kinds of access
 ories and crafts for you and your dolls\, and even have a tea party!  Join
  us as we make new friends and great memories!\n\nInstructor: Ki Shin\n\n
 \n
X-WR-RELCALID:c50e3defca4b841105815add09c79060
X-WR-TIMEZONE:America/Chicago
BEGIN:VTIMEZONE
TZID:America/Chicago
BEGIN:STANDARD
TZNAME:CST
DTSTART:20181104T020000
TZOFFSETFROM:-0500
TZOFFSETTO:-0600
RDATE:20191103T020000
RDATE:20201101T020000
END:STANDARD
BEGIN:DAYLIGHT
TZNAME:CDT
DTSTART:20190310T020000
TZOFFSETFROM:-0600
TZOFFSETTO:-0500
RDATE:20200308T020000
END:DAYLIGHT
END:VTIMEZONE
BEGIN:VEVENT
UID:7facaa7b-8c17-4918-ab0c-72a7177e7eb4
DTSTAMP:20260420T073413Z
DESCRIPTION:June 17 - 21\nEntering Grades 5k – 3\n\nIt’s time for summer! G
 irls\, are you ready for some fun? Bring your doll to camp at Aldridge Gar
 dens. (May also include My Life or Our Generation Dolls.) You and your dol
 l will explore the magic of the Gardens\, you’ll make all kinds of accesso
 ries and crafts for you and your dolls\, and even have a tea party!  Join 
 us as we make new friends and great memories!\n\nInstructor: Ki Shin\n\n\n
DTSTART;TZID=America/Chicago:20190617T090000
DTEND;TZID=America/Chicago:20190617T120000
LOCATION:
SUMMARY:Summer Camp: American Girl Dolls Grades 5k-3rd
END:VEVENT
END:VCALENDAR
