BEGIN:VCALENDAR
VERSION:2.0
PRODID:-//aldridgegardens.com//NONSGML kigkonsult.se iCalcreator 2.30.10//
CALSCALE:GREGORIAN
METHOD:PUBLISH
UID:ab5908d7-6c51-44bc-b01c-63b920c2b712
X-WR-CALDESC:June 17 - 21\nEntering Grades 5k – 3\n\nUnleash your creativit
 y. Think COLOR!\, Think SHAPE\, Think TEXTURE!  THINK FUN!\n\nInstructor: 
 Elizabeth Lochamy\n\n<b>This event has been cancelled.</b>\n
X-WR-RELCALID:d6a6e49a67deaeda0e5cba7071a09a79
X-WR-TIMEZONE:America/Chicago
BEGIN:VTIMEZONE
TZID:America/Chicago
BEGIN:STANDARD
TZNAME:CST
DTSTART:20181104T020000
TZOFFSETFROM:-0500
TZOFFSETTO:-0600
RDATE:20191103T020000
RDATE:20201101T020000
END:STANDARD
BEGIN:DAYLIGHT
TZNAME:CDT
DTSTART:20190310T020000
TZOFFSETFROM:-0600
TZOFFSETTO:-0500
RDATE:20200308T020000
END:DAYLIGHT
END:VTIMEZONE
BEGIN:VEVENT
UID:813fba9a-fc5a-467d-b9c5-866334097a0f
DTSTAMP:20260420T072959Z
DESCRIPTION:June 17 - 21\nEntering Grades 5k – 3\n\nUnleash your creativity
 . Think COLOR!\, Think SHAPE\, Think TEXTURE!  THINK FUN!\n\nInstructor: E
 lizabeth Lochamy\n\n<b>This event has been cancelled.</b>\n
DTSTART;TZID=America/Chicago:20190617T090000
DTEND;TZID=America/Chicago:20190617T120000
LOCATION:
SUMMARY:Summer Camp: Cool Art Grades 5k-3rd
END:VEVENT
END:VCALENDAR
