BEGIN:VCALENDAR
VERSION:2.0
PRODID:-//aldridgegardens.com//NONSGML kigkonsult.se iCalcreator 2.30.10//
CALSCALE:GREGORIAN
METHOD:PUBLISH
UID:0cc3620f-ec75-47e0-ac78-305141dda9a5
X-WR-CALDESC:June 17 - 21\nEntering Grades 4th-5th\n\nPut on your Engineeri
 ng hat and solve cool Construction problems using materials found around A
 ldridge Gardens!  \n\nInstructor: Shannon Kline\n\n\n
X-WR-RELCALID:9dfea3c36f990335c4c42e69a9cf650b
X-WR-TIMEZONE:America/Chicago
BEGIN:VTIMEZONE
TZID:America/Chicago
BEGIN:STANDARD
TZNAME:CST
DTSTART:20181104T020000
TZOFFSETFROM:-0500
TZOFFSETTO:-0600
RDATE:20191103T020000
RDATE:20201101T020000
END:STANDARD
BEGIN:DAYLIGHT
TZNAME:CDT
DTSTART:20190310T020000
TZOFFSETFROM:-0600
TZOFFSETTO:-0500
RDATE:20200308T020000
END:DAYLIGHT
END:VTIMEZONE
BEGIN:VEVENT
UID:2e37d2c5-d525-40e8-b45b-921db08839ba
DTSTAMP:20260420T074510Z
DESCRIPTION:June 17 - 21\nEntering Grades 4th-5th\n\nPut on your Engineerin
 g hat and solve cool Construction problems using materials found around Al
 dridge Gardens!  \n\nInstructor: Shannon Kline\n\n\n
DTSTART;TZID=America/Chicago:20190617T090000
DTEND;TZID=America/Chicago:20190617T120000
LOCATION:
SUMMARY:Summer Camp: Engineering and Construction Grades 4th-5th
END:VEVENT
END:VCALENDAR
