BEGIN:VCALENDAR
VERSION:2.0
PRODID:-//aldridgegardens.com//NONSGML kigkonsult.se iCalcreator 2.30.10//
CALSCALE:GREGORIAN
METHOD:PUBLISH
UID:c460eb46-6939-4fbf-bd6d-f1a6742e9e5c
X-WR-CALDESC:June 17 - 21\nEntering Grades 5k – 3\n\nExplore some myths and
  questions about the natural world in our backyard!  This may get a little
  messy! \n\nInstructor: Kayla Latuso.  \n\n\n
X-WR-RELCALID:b87f86c0df737ce4d8e6d21f9fcedfcf
X-WR-TIMEZONE:America/Chicago
BEGIN:VTIMEZONE
TZID:America/Chicago
BEGIN:STANDARD
TZNAME:CST
DTSTART:20181104T020000
TZOFFSETFROM:-0500
TZOFFSETTO:-0600
RDATE:20191103T020000
RDATE:20201101T020000
END:STANDARD
BEGIN:DAYLIGHT
TZNAME:CDT
DTSTART:20190310T020000
TZOFFSETFROM:-0600
TZOFFSETTO:-0500
RDATE:20200308T020000
END:DAYLIGHT
END:VTIMEZONE
BEGIN:VEVENT
UID:f3fc177a-f85f-482c-bc97-16be5473346e
DTSTAMP:20260420T074309Z
DESCRIPTION:June 17 - 21\nEntering Grades 5k – 3\n\nExplore some myths and 
 questions about the natural world in our backyard!  This may get a little 
 messy! \n\nInstructor: Kayla Latuso.  \n\n\n
DTSTART;TZID=America/Chicago:20190617T090000
DTEND;TZID=America/Chicago:20190617T120000
LOCATION:
SUMMARY:Summer Camp: Myth Busters Grades 5k-3rd
END:VEVENT
END:VCALENDAR
