BEGIN:VCALENDAR
VERSION:2.0
PRODID:-//aldridgegardens.com//NONSGML kigkonsult.se iCalcreator 2.30.10//
CALSCALE:GREGORIAN
METHOD:PUBLISH
UID:d8a188c6-3c9c-4da3-8043-4ef1ff547cf6
X-WR-CALDESC:June 24- 28\nEntering Grades 5k – 3\n\nUnleash your creativity
 . Think COLOR!\, Think SHAPE\, Think TEXTURE!  THINK FUN!\n\nInstructor: E
 lizabeth Lochamy\n\n\n
X-WR-RELCALID:392fcd2c2dd8140f7374da7a36eef81e
X-WR-TIMEZONE:America/Chicago
BEGIN:VTIMEZONE
TZID:America/Chicago
BEGIN:STANDARD
TZNAME:CST
DTSTART:20181104T020000
TZOFFSETFROM:-0500
TZOFFSETTO:-0600
RDATE:20191103T020000
RDATE:20201101T020000
END:STANDARD
BEGIN:DAYLIGHT
TZNAME:CDT
DTSTART:20190310T020000
TZOFFSETFROM:-0600
TZOFFSETTO:-0500
RDATE:20200308T020000
END:DAYLIGHT
END:VTIMEZONE
BEGIN:VEVENT
UID:7e04b7ff-e3b8-448c-8bbe-292deb356655
DTSTAMP:20260420T072810Z
DESCRIPTION:June 24- 28\nEntering Grades 5k – 3\n\nUnleash your creativity.
  Think COLOR!\, Think SHAPE\, Think TEXTURE!  THINK FUN!\n\nInstructor: El
 izabeth Lochamy\n\n\n
DTSTART;TZID=America/Chicago:20190624T090000
DTEND;TZID=America/Chicago:20190624T120000
LOCATION:
SUMMARY:Summer Camp: Cool Art Grades 5k-3rd
END:VEVENT
END:VCALENDAR
