BEGIN:VCALENDAR
VERSION:2.0
PRODID:-//aldridgegardens.com//NONSGML kigkonsult.se iCalcreator 2.30.10//
CALSCALE:GREGORIAN
METHOD:PUBLISH
UID:e4f36f6a-b69b-4678-8222-5bf3ff4c3f76
X-WR-CALDESC:June 24 - 28\nEntering Grades 5k-3rd\n\nPut on your Engineerin
 g hat and solve cool Construction problems using materials found around Al
 dridge Gardens! For beginning Engineers!\n\nInstructor: Ann Driskell\n\n\n
X-WR-RELCALID:0af6e8c2e70c144dddead9bdcc3b83bf
X-WR-TIMEZONE:America/Chicago
BEGIN:VTIMEZONE
TZID:America/Chicago
BEGIN:STANDARD
TZNAME:CST
DTSTART:20181104T020000
TZOFFSETFROM:-0500
TZOFFSETTO:-0600
RDATE:20191103T020000
RDATE:20201101T020000
END:STANDARD
BEGIN:DAYLIGHT
TZNAME:CDT
DTSTART:20190310T020000
TZOFFSETFROM:-0600
TZOFFSETTO:-0500
RDATE:20200308T020000
END:DAYLIGHT
END:VTIMEZONE
BEGIN:VEVENT
UID:7caeb321-ec75-4f73-9752-400549f257ef
DTSTAMP:20260420T072317Z
DESCRIPTION:June 24 - 28\nEntering Grades 5k-3rd\n\nPut on your Engineering
  hat and solve cool Construction problems using materials found around Ald
 ridge Gardens! For beginning Engineers!\n\nInstructor: Ann Driskell\n\n\n
DTSTART;TZID=America/Chicago:20190624T090000
DTEND;TZID=America/Chicago:20190624T120000
LOCATION:
SUMMARY:Summer Camp: Engineering and Construction Grades 5k-3rd
END:VEVENT
END:VCALENDAR
