BEGIN:VCALENDAR
VERSION:2.0
PRODID:-//aldridgegardens.com//NONSGML kigkonsult.se iCalcreator 2.30.10//
CALSCALE:GREGORIAN
METHOD:PUBLISH
UID:dd11665e-644e-4282-9091-639f65fc6708
X-WR-CALDESC:June 24-28\nEntering Grades 5k – 3\n\nExplore some myths and q
 uestions about the natural world in our backyard!  This may get a little m
 essy! \n\nInstructor: Kayla Latuso.  \n\n
X-WR-RELCALID:130f0bb45252dfdc3902af4a77f753e1
X-WR-TIMEZONE:America/Chicago
BEGIN:VTIMEZONE
TZID:America/Chicago
BEGIN:STANDARD
TZNAME:CST
DTSTART:20181104T020000
TZOFFSETFROM:-0500
TZOFFSETTO:-0600
RDATE:20191103T020000
RDATE:20201101T020000
END:STANDARD
BEGIN:DAYLIGHT
TZNAME:CDT
DTSTART:20190310T020000
TZOFFSETFROM:-0600
TZOFFSETTO:-0500
RDATE:20200308T020000
END:DAYLIGHT
END:VTIMEZONE
BEGIN:VEVENT
UID:7c155592-e838-404d-8639-dc6d2f10d256
DTSTAMP:20260420T072156Z
DESCRIPTION:June 24-28\nEntering Grades 5k – 3\n\nExplore some myths and qu
 estions about the natural world in our backyard!  This may get a little me
 ssy! \n\nInstructor: Kayla Latuso.  \n\n
DTSTART;TZID=America/Chicago:20190624T090000
DTEND;TZID=America/Chicago:20190624T120000
LOCATION:
SUMMARY:Summer Camp: Myth Busters Grades 5k-3rd
END:VEVENT
END:VCALENDAR
