BEGIN:VCALENDAR
VERSION:2.0
PRODID:-//aldridgegardens.com//NONSGML kigkonsult.se iCalcreator 2.30.10//
CALSCALE:GREGORIAN
METHOD:PUBLISH
UID:97da8234-91c2-4253-bd77-69de6a1208ae
X-WR-CALDESC:<b>This event has been cancelled.</b>\n\nMad Scientist Party\n
 \nConcoct fizzy drinks\, get scientific\, play outside\, and get a little 
 weird! Enjoy a picnic lunch with hotdogs.\n\n$25 members/ $30 nonmembers\n
 <b>Admission includes adult plus young guest age 4-8</b>\nOnly 12 tickets 
 available\n\n<b>This event has been cancelled.</b>
X-WR-RELCALID:82db999e7c2a77369cc58ca9e298e697
X-WR-TIMEZONE:America/Chicago
BEGIN:VTIMEZONE
TZID:America/Chicago
BEGIN:STANDARD
TZNAME:CST
DTSTART:20181104T020000
TZOFFSETFROM:-0500
TZOFFSETTO:-0600
RDATE:20191103T020000
RDATE:20201101T020000
END:STANDARD
BEGIN:DAYLIGHT
TZNAME:CDT
DTSTART:20190310T020000
TZOFFSETFROM:-0600
TZOFFSETTO:-0500
RDATE:20200308T020000
END:DAYLIGHT
END:VTIMEZONE
BEGIN:VEVENT
UID:f6d3b167-653c-4130-8228-6e91756e0c60
DTSTAMP:20260420T055502Z
DESCRIPTION:<b>This event has been cancelled.</b>\n\nMad Scientist Party\n
 \nConcoct fizzy drinks\, get scientific\, play outside\, and get a little 
 weird! Enjoy a picnic lunch with hotdogs.\n\n$25 members/ $30 nonmembers\n
 <b>Admission includes adult plus young guest age 4-8</b>\nOnly 12 tickets 
 available\n\n<b>This event has been cancelled.</b>
DTSTART;TZID=America/Chicago:20190725T100000
DTEND;TZID=America/Chicago:20190725T120000
LOCATION:The House and Patio at Aldridge Gardens
SUMMARY:Mad Scientist Party
END:VEVENT
END:VCALENDAR
