BEGIN:VCALENDAR
VERSION:2.0
PRODID:-//aldridgegardens.com//NONSGML kigkonsult.se iCalcreator 2.30.10//
CALSCALE:GREGORIAN
METHOD:PUBLISH
UID:58bd8880-fe1f-4651-aa10-0ac4cff90e5d
X-WR-CALDESC:The 'Bonsai Society Members' Workshop' will be Saturday\, Augu
 st 10th from 10 a.m. to 1 p.m. We'll plan to meet John Walker in the entry
  plaza and then make our way over to the Field Trip Garden. Please bring y
 our trees to work on with John.  If you are not yet a Bonsai Member\, and 
 are interested\, you are welcome to join and learn about the art of Bonsai
 .
X-WR-RELCALID:6a488f8870c8e56c8d2f1ae3846a7b6f
X-WR-TIMEZONE:America/Chicago
BEGIN:VTIMEZONE
TZID:America/Chicago
BEGIN:STANDARD
TZNAME:CST
DTSTART:20181104T020000
TZOFFSETFROM:-0500
TZOFFSETTO:-0600
RDATE:20191103T020000
RDATE:20201101T020000
END:STANDARD
BEGIN:DAYLIGHT
TZNAME:CDT
DTSTART:20190310T020000
TZOFFSETFROM:-0600
TZOFFSETTO:-0500
RDATE:20200308T020000
END:DAYLIGHT
END:VTIMEZONE
BEGIN:VEVENT
UID:c7112e73-70bd-4175-bd74-ab2c6d25a828
DTSTAMP:20260420T035650Z
DESCRIPTION:The 'Bonsai Society Members' Workshop' will be Saturday\, Augus
 t 10th from 10 a.m. to 1 p.m. We'll plan to meet John Walker in the entry 
 plaza and then make our way over to the Field Trip Garden. Please bring yo
 ur trees to work on with John.  If you are not yet a Bonsai Member\, and a
 re interested\, you are welcome to join and learn about the art of Bonsai.
DTSTART;TZID=America/Chicago:20190810T100000
DTEND;TZID=America/Chicago:20190810T130000
LOCATION:Field Trip Garden
SUMMARY:Bonsai Society Members' Workshop
END:VEVENT
END:VCALENDAR
