BEGIN:VCALENDAR
VERSION:2.0
PRODID:-//aldridgegardens.com//NONSGML kigkonsult.se iCalcreator 2.30.10//
CALSCALE:GREGORIAN
METHOD:PUBLISH
UID:0f452a03-4aec-427c-a31c-9813353fb887
X-WR-CALDESC:The 'Street Photographers of Birmingham' are made up of Patty 
 Bradley\, Janet Newman\, Jeff Newman\, Larry O. Gay\, Sharmaine Phillips\,
  and Butch Oglesby. Their photos will be displayed and available for sale 
 in the gallery during August and September. Their work captures the people
 \, imagery\, and scenery of the Birmingham area as seen through their eyes
 .\n\nJoin us for a reception to meet them personally and hear about their 
 art directly from the artists. \n\n
X-WR-RELCALID:6dd4aa9745ee9902e497104eae9a036f
X-WR-TIMEZONE:America/Chicago
BEGIN:VTIMEZONE
TZID:America/Chicago
BEGIN:STANDARD
TZNAME:CST
DTSTART:20181104T020000
TZOFFSETFROM:-0500
TZOFFSETTO:-0600
RDATE:20191103T020000
RDATE:20201101T020000
END:STANDARD
BEGIN:DAYLIGHT
TZNAME:CDT
DTSTART:20190310T020000
TZOFFSETFROM:-0600
TZOFFSETTO:-0500
RDATE:20200308T020000
END:DAYLIGHT
END:VTIMEZONE
BEGIN:VEVENT
UID:55e1ab5e-c603-41e8-b7a2-1d758fc6f2ce
DTSTAMP:20260420T040519Z
DESCRIPTION:The 'Street Photographers of Birmingham' are made up of Patty B
 radley\, Janet Newman\, Jeff Newman\, Larry O. Gay\, Sharmaine Phillips\, 
 and Butch Oglesby. Their photos will be displayed and available for sale i
 n the gallery during August and September. Their work captures the people\
 , imagery\, and scenery of the Birmingham area as seen through their eyes.
 \n\nJoin us for a reception to meet them personally and hear about their a
 rt directly from the artists. \n\n
DTSTART;TZID=America/Chicago:20190812T180000
DTEND;TZID=America/Chicago:20190812T190000
LOCATION:Eddie and Kay Aldridge Arts and Historical Collections Museum
SUMMARY:Meet the Artists Reception - Street Photographers of Birmingham
END:VEVENT
END:VCALENDAR
