BEGIN:VCALENDAR
VERSION:2.0
PRODID:-//aldridgegardens.com//NONSGML kigkonsult.se iCalcreator 2.30.10//
CALSCALE:GREGORIAN
METHOD:PUBLISH
UID:79a67e26-ff11-43b4-adb9-8e0249905dff
X-WR-CALDESC:Propagator level members will enjoy their monthly wine recepti
 on while mixing and mingling with the artist. \n\nThe 'Street Photographer
 s of Birmingham' are made up of Patty Bradley\, Janet Newman\, Jeff Newman
 \, Larry O. Gay\, Sharmaine Phillips\, and Butch Oglesby. Their photos wil
 l be displayed and available for sale in the gallery during August and Sep
 tember. Their work captures the people\, imagery\, and scenery of the Birm
 ingham area as seen through their eyes.\n\nJoin us for a reception to meet
  them personally and hear about their art directly from the artists. \n\n<
 b>This propagator member event will roll into the general artists receptio
 n beginning at 6 p.m.</b>\n\n
X-WR-RELCALID:7eb9ceca792e65f9842b45e66a83b54b
X-WR-TIMEZONE:America/Chicago
BEGIN:VTIMEZONE
TZID:America/Chicago
BEGIN:STANDARD
TZNAME:CST
DTSTART:20181104T020000
TZOFFSETFROM:-0500
TZOFFSETTO:-0600
RDATE:20191103T020000
RDATE:20201101T020000
END:STANDARD
BEGIN:DAYLIGHT
TZNAME:CDT
DTSTART:20190310T020000
TZOFFSETFROM:-0600
TZOFFSETTO:-0500
RDATE:20200308T020000
END:DAYLIGHT
END:VTIMEZONE
BEGIN:VEVENT
UID:df761fa2-3e54-45c3-8541-9e7a538a4166
DTSTAMP:20260420T041605Z
DESCRIPTION:Propagator level members will enjoy their monthly wine receptio
 n while mixing and mingling with the artist. \n\nThe 'Street Photographers
  of Birmingham' are made up of Patty Bradley\, Janet Newman\, Jeff Newman\
 , Larry O. Gay\, Sharmaine Phillips\, and Butch Oglesby. Their photos will
  be displayed and available for sale in the gallery during August and Sept
 ember. Their work captures the people\, imagery\, and scenery of the Birmi
 ngham area as seen through their eyes.\n\nJoin us for a reception to meet 
 them personally and hear about their art directly from the artists. \n\n<b
 >This propagator member event will roll into the general artists reception
  beginning at 6 p.m.</b>\n\n
DTSTART;TZID=America/Chicago:20190812T170000
DTEND;TZID=America/Chicago:20190812T180000
LOCATION:Eddie and Kay Aldridge Arts and Historical Collections Museum
SUMMARY:Propagator Wine Reception - Street Photographers of Birmingham
END:VEVENT
END:VCALENDAR
