BEGIN:VCALENDAR
VERSION:2.0
PRODID:-//aldridgegardens.com//NONSGML kigkonsult.se iCalcreator 2.30.10//
CALSCALE:GREGORIAN
METHOD:PUBLISH
UID:3b0c18cb-d4ae-4d4f-8af9-6a499113d27c
X-WR-CALDESC:Kokedama – Planting Ornamentals in Moss Covered Soil\n\nMary S
 egreto teaches this Japanese gardening practice of growing ornamental plan
 ts in moss-covered balls of soil. \n\nMoss is wrapped around the balls of 
 soil and secured with wire\, which can also be used to suspend the plant i
 n the air. \n\nIn this class\, you'll create your own Kokedama to take hom
 e with you! \n\nThursday\, August 22\, from 6 to 8 p.m. in the Aldridge ho
 use. Class size is limited\, so please register early. \n\n
X-WR-RELCALID:e43de3d0e0dde6160ac0dcb1863131f2
X-WR-TIMEZONE:America/Chicago
BEGIN:VTIMEZONE
TZID:America/Chicago
BEGIN:STANDARD
TZNAME:CST
DTSTART:20181104T020000
TZOFFSETFROM:-0500
TZOFFSETTO:-0600
RDATE:20191103T020000
RDATE:20201101T020000
END:STANDARD
BEGIN:DAYLIGHT
TZNAME:CDT
DTSTART:20190310T020000
TZOFFSETFROM:-0600
TZOFFSETTO:-0500
RDATE:20200308T020000
END:DAYLIGHT
END:VTIMEZONE
BEGIN:VEVENT
UID:b34292a6-3625-4c6b-a31f-d0132f564ea8
DTSTAMP:20260420T045828Z
DESCRIPTION:Kokedama – Planting Ornamentals in Moss Covered Soil\n\nMary Se
 greto teaches this Japanese gardening practice of growing ornamental plant
 s in moss-covered balls of soil. \n\nMoss is wrapped around the balls of s
 oil and secured with wire\, which can also be used to suspend the plant in
  the air. \n\nIn this class\, you'll create your own Kokedama to take home
  with you! \n\nThursday\, August 22\, from 6 to 8 p.m. in the Aldridge hou
 se. Class size is limited\, so please register early. \n\n
DTSTART;TZID=America/Chicago:20190822T180000
DTEND;TZID=America/Chicago:20190822T200000
LOCATION:Aldridge Gardens
SUMMARY:Kokedama - Planting in Moss-Covered Soil
END:VEVENT
END:VCALENDAR
