BEGIN:VCALENDAR
VERSION:2.0
PRODID:-//aldridgegardens.com//NONSGML kigkonsult.se iCalcreator 2.30.10//
CALSCALE:GREGORIAN
METHOD:PUBLISH
UID:ae312f89-ba71-4c54-b673-9f7c897fa7c4
X-WR-CALDESC:Seasonal Floral Transitions with Beth White\n\nJoin floral des
 igner Beth White for this fun\, informative class intended to help you cre
 ate a seamless bridge from summer flowers and plant decor into a flexible 
 fall (and then winter) motif.  Beth will share how to create a basic backg
 round and then embellish it with smaller seasonal changes. \n\nWe'll look 
 at all sorts of transitions - for your kitchen table all the way to your f
 ront porch pots!  She calls some of the ideas UP-cycling (as different fro
 m re-cycling) and a few center around beautiful hydrangeas.\n\nThursday\, 
 August 29th\, from 1 to 3 p.m. in the house at Aldridge Gardens. Class siz
 e is limited\, so please register early. \n\n
X-WR-RELCALID:83c2e0eb0d5efd8ebb6b7cc6addd98ac
X-WR-TIMEZONE:America/Chicago
BEGIN:VTIMEZONE
TZID:America/Chicago
BEGIN:STANDARD
TZNAME:CST
DTSTART:20181104T020000
TZOFFSETFROM:-0500
TZOFFSETTO:-0600
RDATE:20191103T020000
RDATE:20201101T020000
END:STANDARD
BEGIN:DAYLIGHT
TZNAME:CDT
DTSTART:20190310T020000
TZOFFSETFROM:-0600
TZOFFSETTO:-0500
RDATE:20200308T020000
END:DAYLIGHT
END:VTIMEZONE
BEGIN:VEVENT
UID:11f1a112-8202-486d-8601-278080deb7bd
DTSTAMP:20260420T033747Z
DESCRIPTION:Seasonal Floral Transitions with Beth White\n\nJoin floral desi
 gner Beth White for this fun\, informative class intended to help you crea
 te a seamless bridge from summer flowers and plant decor into a flexible f
 all (and then winter) motif.  Beth will share how to create a basic backgr
 ound and then embellish it with smaller seasonal changes. \n\nWe'll look a
 t all sorts of transitions - for your kitchen table all the way to your fr
 ont porch pots!  She calls some of the ideas UP-cycling (as different from
  re-cycling) and a few center around beautiful hydrangeas.\n\nThursday\, A
 ugust 29th\, from 1 to 3 p.m. in the house at Aldridge Gardens. Class size
  is limited\, so please register early. \n\n
DTSTART;TZID=America/Chicago:20190829T130000
DTEND;TZID=America/Chicago:20190829T150000
LOCATION:Aldridge House and Patio
SUMMARY:Seasonal Floral Transitions with Beth White
END:VEVENT
END:VCALENDAR
