BEGIN:VCALENDAR
VERSION:2.0
PRODID:-//aldridgegardens.com//NONSGML kigkonsult.se iCalcreator 2.30.10//
CALSCALE:GREGORIAN
METHOD:PUBLISH
UID:79b4ae09-2698-4f93-ab48-3cad94f7ad38
X-WR-CALDESC:Samford University’s David Frings will bring his critter colle
 ction of reptiles\, turtles\, snakes\, lizards\, and frogs to share with y
 oung and old! Help feed Walter (THE Turtle) some lettuce\, too!\n\nCost fo
 r Aldridge Gardens members $20\, while non-members is $25.\n<b>Each regist
 ration includes 1 adult + 1 child (aged 5 to 12)</b>\nLimited to 15 regist
 rations (30 people)\n
X-WR-RELCALID:e12296330bc2df7e7a3f1665cac7d172
X-WR-TIMEZONE:America/Chicago
BEGIN:VTIMEZONE
TZID:America/Chicago
BEGIN:STANDARD
TZNAME:CST
DTSTART:20181104T020000
TZOFFSETFROM:-0500
TZOFFSETTO:-0600
RDATE:20191103T020000
RDATE:20201101T020000
END:STANDARD
BEGIN:DAYLIGHT
TZNAME:CDT
DTSTART:20190310T020000
TZOFFSETFROM:-0600
TZOFFSETTO:-0500
RDATE:20200308T020000
END:DAYLIGHT
END:VTIMEZONE
BEGIN:VEVENT
UID:d5dd8791-0a28-4360-aa9a-92a2c211ccc5
DTSTAMP:20260420T052433Z
DESCRIPTION:Samford University’s David Frings will bring his critter collec
 tion of reptiles\, turtles\, snakes\, lizards\, and frogs to share with yo
 ung and old! Help feed Walter (THE Turtle) some lettuce\, too!\n\nCost for
  Aldridge Gardens members $20\, while non-members is $25.\n<b>Each registr
 ation includes 1 adult + 1 child (aged 5 to 12)</b>\nLimited to 15 registr
 ations (30 people)\n
DTSTART;TZID=America/Chicago:20190912T180000
DTEND;TZID=America/Chicago:20190912T193000
LOCATION:The House and Patio at Aldridge Gardens
SUMMARY:All About Amphibians and Reptiles
END:VEVENT
END:VCALENDAR
