BEGIN:VCALENDAR
VERSION:2.0
PRODID:-//aldridgegardens.com//NONSGML kigkonsult.se iCalcreator 2.30.10//
CALSCALE:GREGORIAN
METHOD:PUBLISH
UID:28eddaab-e4b8-4a38-82f8-e498d503b629
X-WR-CALDESC:In college\, while McDaniel studied architecture\, he also too
 k an intense mix of drawing\, painting and sculpture courses. After gradua
 tion he practiced as an architect for 40 years before retiring to pursue a
 rt full time. He says\, 'my primary medium is oil paint. I love the lumino
 sity that oil paint can produce as well as the forgiving nature of oil pai
 nt due to its slow rate of drying. My process is to seek out scenes\, ofte
 n involving ordinary places and objects\, that I can capture and share wit
 h others.'\n\nJoin us for a reception to meet Dan McDaniel personally and 
 hear about his art directly from him. \n\n
X-WR-RELCALID:06bbf3449ff0faecc17704c16de62dce
X-WR-TIMEZONE:America/Chicago
BEGIN:VTIMEZONE
TZID:America/Chicago
BEGIN:STANDARD
TZNAME:CST
DTSTART:20181104T020000
TZOFFSETFROM:-0500
TZOFFSETTO:-0600
RDATE:20191103T020000
RDATE:20201101T020000
END:STANDARD
BEGIN:DAYLIGHT
TZNAME:CDT
DTSTART:20190310T020000
TZOFFSETFROM:-0600
TZOFFSETTO:-0500
RDATE:20200308T020000
RDATE:20210314T020000
END:DAYLIGHT
END:VTIMEZONE
BEGIN:VEVENT
UID:d73062b4-90f2-4ad3-a9fb-d6b95c48ac9e
DTSTAMP:20260420T070843Z
DESCRIPTION:In college\, while McDaniel studied architecture\, he also took
  an intense mix of drawing\, painting and sculpture courses. After graduat
 ion he practiced as an architect for 40 years before retiring to pursue ar
 t full time. He says\, 'my primary medium is oil paint. I love the luminos
 ity that oil paint can produce as well as the forgiving nature of oil pain
 t due to its slow rate of drying. My process is to seek out scenes\, often
  involving ordinary places and objects\, that I can capture and share with
  others.'\n\nJoin us for a reception to meet Dan McDaniel personally and h
 ear about his art directly from him. \n\n
DTSTART;TZID=America/Chicago:20191015T180000
DTEND;TZID=America/Chicago:20191015T190000
LOCATION:Eddie and Kay Aldridge Arts and Historical Collections Museum
SUMMARY:Meet the Artist Reception - Dan McDaniel
END:VEVENT
END:VCALENDAR
