BEGIN:VCALENDAR
VERSION:2.0
PRODID:-//aldridgegardens.com//NONSGML kigkonsult.se iCalcreator 2.30.10//
CALSCALE:GREGORIAN
METHOD:PUBLISH
UID:0c15a6ac-4475-4ba4-b8c7-70716e5e3971
X-WR-CALDESC:A wine reception for Propagator level members to enjoy while m
 eeting the artist. \n\nIn college\, while McDaniel studied architecture\, 
 he also took an intense mix of drawing\, painting and sculpture courses. A
 fter graduation he practiced as an architect for 40 years before retiring 
 to pursue art full time. He says\, 'my primary medium is oil paint. I love
  the luminosity that oil paint can produce as well as the forgiving nature
  of oil paint due to its slow rate of drying. My process is to seek out sc
 enes\, often involving ordinary places and objects\, that I can capture an
 d share with others.'\n\nJoin us for a reception to meet Dan personally an
 d hear about his art directly from the artist. \n\n<b>This propagator memb
 er event will roll into the general artists reception beginning at 6 p.m.<
 /b>\n\n
X-WR-RELCALID:dcb3cfccfb3ec563ce6584a72cb7683e
X-WR-TIMEZONE:America/Chicago
BEGIN:VTIMEZONE
TZID:America/Chicago
BEGIN:STANDARD
TZNAME:CST
DTSTART:20181104T020000
TZOFFSETFROM:-0500
TZOFFSETTO:-0600
RDATE:20191103T020000
RDATE:20201101T020000
END:STANDARD
BEGIN:DAYLIGHT
TZNAME:CDT
DTSTART:20190310T020000
TZOFFSETFROM:-0600
TZOFFSETTO:-0500
RDATE:20200308T020000
RDATE:20210314T020000
END:DAYLIGHT
END:VTIMEZONE
BEGIN:VEVENT
UID:a2e77f43-68f4-4962-b794-e8b25fc8d793
DTSTAMP:20260420T070552Z
DESCRIPTION:A wine reception for Propagator level members to enjoy while me
 eting the artist. \n\nIn college\, while McDaniel studied architecture\, h
 e also took an intense mix of drawing\, painting and sculpture courses. Af
 ter graduation he practiced as an architect for 40 years before retiring t
 o pursue art full time. He says\, 'my primary medium is oil paint. I love 
 the luminosity that oil paint can produce as well as the forgiving nature 
 of oil paint due to its slow rate of drying. My process is to seek out sce
 nes\, often involving ordinary places and objects\, that I can capture and
  share with others.'\n\nJoin us for a reception to meet Dan personally and
  hear about his art directly from the artist. \n\n<b>This propagator membe
 r event will roll into the general artists reception beginning at 6 p.m.</
 b>\n\n
DTSTART;TZID=America/Chicago:20191015T170000
DTEND;TZID=America/Chicago:20191015T180000
LOCATION:Eddie and Kay Aldridge Arts and Historical Collections Museum
SUMMARY:Propagator Wine Reception - Artist Dan McDaniel
END:VEVENT
END:VCALENDAR
