BEGIN:VCALENDAR
VERSION:2.0
PRODID:-//aldridgegardens.com//NONSGML kigkonsult.se iCalcreator 2.30.10//
CALSCALE:GREGORIAN
METHOD:PUBLISH
UID:edb0d79e-1240-48db-aeed-c3000f66c024
X-WR-CALDESC:The 'Bonsai Society Members' Workshop' will be Saturday\, Octo
 ber 19th beginning at 9 a.m. We'll plan to meet in our new Education Build
 ing. Please bring your trees to work on with John.  If you are not yet a B
 onsai Member\, and are interested\, you are welcome to join and learn abou
 t the art of Bonsai.
X-WR-RELCALID:9d1987884f7bc235370a77ddb06df936
X-WR-TIMEZONE:America/Chicago
BEGIN:VTIMEZONE
TZID:America/Chicago
BEGIN:STANDARD
TZNAME:CST
DTSTART:20181104T020000
TZOFFSETFROM:-0500
TZOFFSETTO:-0600
RDATE:20191103T020000
RDATE:20201101T020000
END:STANDARD
BEGIN:DAYLIGHT
TZNAME:CDT
DTSTART:20190310T020000
TZOFFSETFROM:-0600
TZOFFSETTO:-0500
RDATE:20200308T020000
RDATE:20210314T020000
END:DAYLIGHT
END:VTIMEZONE
BEGIN:VEVENT
UID:c3db9ec5-8e48-4219-a8a2-09f9ed9e0544
DTSTAMP:20260420T070720Z
DESCRIPTION:The 'Bonsai Society Members' Workshop' will be Saturday\, Octob
 er 19th beginning at 9 a.m. We'll plan to meet in our new Education Buildi
 ng. Please bring your trees to work on with John.  If you are not yet a Bo
 nsai Member\, and are interested\, you are welcome to join and learn about
  the art of Bonsai.
DTSTART;TZID=America/Chicago:20191019T090000
DTEND;TZID=America/Chicago:20191019T120000
LOCATION:Education Building
SUMMARY:Bonsai Society Members' Workshop
END:VEVENT
END:VCALENDAR
