BEGIN:VCALENDAR
VERSION:2.0
PRODID:-//aldridgegardens.com//NONSGML kigkonsult.se iCalcreator 2.30.10//
CALSCALE:GREGORIAN
METHOD:PUBLISH
UID:39c6f6a5-e5a5-4e5d-afca-daa3283a6310
X-WR-CALDESC:Linda McCullough will explain what native plants are and the b
 enefits of planting them in our gardens. Her talk will highlight how we ca
 n all make a positive contribution to the health of our gardens and our la
 rger environment while creating beautiful spaces.\n\nNot a member yet? Joi
 n online now or sign up in person at the Gardens.\n\nLinda holds a Birming
 ham Botanical Gardens Certification in Native Plant Studies. She enjoys us
 ing her imagination and creative skills through gardening\, cooking\, musi
 c\, and photography.
X-WR-RELCALID:7e2fa2433a51fa4efaccafe5870a934b
X-WR-TIMEZONE:America/Chicago
BEGIN:VTIMEZONE
TZID:America/Chicago
BEGIN:STANDARD
TZNAME:CST
DTSTART:20181104T020000
TZOFFSETFROM:-0500
TZOFFSETTO:-0600
RDATE:20191103T020000
RDATE:20201101T020000
END:STANDARD
BEGIN:DAYLIGHT
TZNAME:CDT
DTSTART:20190310T020000
TZOFFSETFROM:-0600
TZOFFSETTO:-0500
RDATE:20200308T020000
RDATE:20210314T020000
END:DAYLIGHT
END:VTIMEZONE
BEGIN:VEVENT
UID:3eb66f3a-041e-4a08-b0c1-94f6ef0d384f
DTSTAMP:20260420T004435Z
DESCRIPTION:Linda McCullough will explain what native plants are and the be
 nefits of planting them in our gardens. Her talk will highlight how we can
  all make a positive contribution to the health of our gardens and our lar
 ger environment while creating beautiful spaces.\n\nNot a member yet? Join
  online now or sign up in person at the Gardens.\n\nLinda holds a Birmingh
 am Botanical Gardens Certification in Native Plant Studies. She enjoys usi
 ng her imagination and creative skills through gardening\, cooking\, music
 \, and photography.
DTSTART;TZID=America/Chicago:20191030T110000
DTEND;TZID=America/Chicago:20191030T120000
LOCATION:Education Building
SUMMARY:Members-Only Garden Talk - Native Plants
END:VEVENT
END:VCALENDAR
