BEGIN:VCALENDAR
VERSION:2.0
PRODID:-//aldridgegardens.com//NONSGML kigkonsult.se iCalcreator 2.30.10//
CALSCALE:GREGORIAN
METHOD:PUBLISH
UID:5ceb8a74-a0ae-435c-a4ec-50d8edffc1a1
X-WR-CALDESC:Monday\, November 4th from 9:30 to 10 a.m.\, Aldridge Gardens 
 will celebrate the third anniversary of our Veterans Memorial Arbor. Locat
 ed on the back of our lake\, this arbor was dedicated three years ago in h
 onor of Veterans Day. It can be accessed by using our woodland walking pat
 h and golf cart transportation will be available for those needing assista
 nce.\n\nWe will have a small ceremony recognizing our nation's veterans al
 ong with many veteran Aldridge Gardens members. A reception will be held i
 n the Aldridge Gardens house afterwards. \n
X-WR-RELCALID:2f3a0f29efe4d7b0f125c9ea32d83a8e
X-WR-TIMEZONE:America/Chicago
BEGIN:VTIMEZONE
TZID:America/Chicago
BEGIN:STANDARD
TZNAME:CST
DTSTART:20181104T020000
TZOFFSETFROM:-0500
TZOFFSETTO:-0600
RDATE:20191103T020000
RDATE:20201101T020000
END:STANDARD
BEGIN:DAYLIGHT
TZNAME:CDT
DTSTART:20190310T020000
TZOFFSETFROM:-0600
TZOFFSETTO:-0500
RDATE:20200308T020000
RDATE:20210314T020000
END:DAYLIGHT
END:VTIMEZONE
BEGIN:VEVENT
UID:e592169b-8491-4d5d-a52c-bd87a977aa9d
DTSTAMP:20260420T091512Z
DESCRIPTION:Monday\, November 4th from 9:30 to 10 a.m.\, Aldridge Gardens w
 ill celebrate the third anniversary of our Veterans Memorial Arbor. Locate
 d on the back of our lake\, this arbor was dedicated three years ago in ho
 nor of Veterans Day. It can be accessed by using our woodland walking path
  and golf cart transportation will be available for those needing assistan
 ce.\n\nWe will have a small ceremony recognizing our nation's veterans alo
 ng with many veteran Aldridge Gardens members. A reception will be held in
  the Aldridge Gardens house afterwards. \n
DTSTART;TZID=America/Chicago:20191104T093000
DTEND;TZID=America/Chicago:20191104T100000
LOCATION:Veterans Memorial Arbor at Aldridge Gardens
SUMMARY:Veterans Memorial Arbor Rededication
END:VEVENT
END:VCALENDAR
