BEGIN:VCALENDAR
VERSION:2.0
PRODID:-//aldridgegardens.com//NONSGML kigkonsult.se iCalcreator 2.30.10//
CALSCALE:GREGORIAN
METHOD:PUBLISH
UID:bf0574f8-c792-40aa-9a0d-83b50a1d29e0
X-WR-CALDESC:Let's Talk Tequila! \n\nAuthor Clair McLafferty will entice yo
 u with her seminar on Tequila! Fantastic photos\, first hand experiences\,
  stories\, and recipes! \n\nGuests will receive 2 cocktails and light refr
 eshments will be served. Clair will also be selling and signing her two bo
 oks - 'Romantic Cocktails' (released Jan. '19) and her most recent work 'T
 he Classic & Craft Cocktail Recipe Book.' \n\nTuesday\, November 5th from 
  6 to 7:30 p.m. in the house at Aldridge Gardens. Class size is limited\, 
 so please register early. \n\n
X-WR-RELCALID:4b308e8aef23cf891171166b7e8ad8c9
X-WR-TIMEZONE:America/Chicago
BEGIN:VTIMEZONE
TZID:America/Chicago
BEGIN:STANDARD
TZNAME:CST
DTSTART:20191103T020000
TZOFFSETFROM:-0500
TZOFFSETTO:-0600
RDATE:20201101T020000
END:STANDARD
BEGIN:DAYLIGHT
TZNAME:CDT
DTSTART:20190310T020000
TZOFFSETFROM:-0600
TZOFFSETTO:-0500
RDATE:20200308T020000
RDATE:20210314T020000
END:DAYLIGHT
END:VTIMEZONE
BEGIN:VEVENT
UID:5f8f782d-0b2d-4117-bb51-3341df406677
DTSTAMP:20260420T085426Z
DESCRIPTION:Let's Talk Tequila! \n\nAuthor Clair McLafferty will entice you
  with her seminar on Tequila! Fantastic photos\, first hand experiences\, 
 stories\, and recipes! \n\nGuests will receive 2 cocktails and light refre
 shments will be served. Clair will also be selling and signing her two boo
 ks - 'Romantic Cocktails' (released Jan. '19) and her most recent work 'Th
 e Classic & Craft Cocktail Recipe Book.' \n\nTuesday\, November 5th from  
 6 to 7:30 p.m. in the house at Aldridge Gardens. Class size is limited\, s
 o please register early. \n\n
DTSTART;TZID=America/Chicago:20191105T180000
DTEND;TZID=America/Chicago:20191105T193000
LOCATION:The House at Aldridge Gardens
SUMMARY:Let's Talk Tequila with Clair McLafferty
END:VEVENT
END:VCALENDAR
