BEGIN:VCALENDAR
VERSION:2.0
PRODID:-//aldridgegardens.com//NONSGML kigkonsult.se iCalcreator 2.30.10//
CALSCALE:GREGORIAN
METHOD:PUBLISH
UID:94da3451-9a81-4943-9c5f-939a2b16575d
X-WR-CALDESC:<b>This event has been cancelled. </b>\n\nIt will be led by De
 bbie Dumais\, a certified Zentangle instructor. While you can Zentangle (c
 reate & draw beautiful images one stroke at a time) anytime\, Debbie will 
 be focusing on how to use your practice designs for holiday cards\, tags\,
  and decor.  Supplies will be provided.\n\nThe cost will be $20 for Aldrid
 ge Gardens members and $25 nonmembers. Class size is limited\, so please r
 egister early. \n\n
X-WR-RELCALID:c783949c9195d51418653534090d3547
X-WR-TIMEZONE:America/Chicago
BEGIN:VTIMEZONE
TZID:America/Chicago
BEGIN:STANDARD
TZNAME:CST
DTSTART:20191103T020000
TZOFFSETFROM:-0500
TZOFFSETTO:-0600
RDATE:20201101T020000
END:STANDARD
BEGIN:DAYLIGHT
TZNAME:CDT
DTSTART:20190310T020000
TZOFFSETFROM:-0600
TZOFFSETTO:-0500
RDATE:20200308T020000
RDATE:20210314T020000
END:DAYLIGHT
END:VTIMEZONE
BEGIN:VEVENT
UID:722f2b6b-017a-482a-9683-f94e1c0f692c
DTSTAMP:20260420T085248Z
DESCRIPTION:<b>This event has been cancelled. </b>\n\nIt will be led by Deb
 bie Dumais\, a certified Zentangle instructor. While you can Zentangle (cr
 eate & draw beautiful images one stroke at a time) anytime\, Debbie will b
 e focusing on how to use your practice designs for holiday cards\, tags\, 
 and decor.  Supplies will be provided.\n\nThe cost will be $20 for Aldridg
 e Gardens members and $25 nonmembers. Class size is limited\, so please re
 gister early. \n\n
DTSTART;TZID=America/Chicago:20191112T180000
DTEND;TZID=America/Chicago:20191112T193000
LOCATION:The House at Aldridge Gardens
SUMMARY:Zentangle Class
END:VEVENT
END:VCALENDAR
