BEGIN:VCALENDAR
VERSION:2.0
PRODID:-//aldridgegardens.com//NONSGML kigkonsult.se iCalcreator 2.30.10//
CALSCALE:GREGORIAN
METHOD:PUBLISH
UID:beaf4019-f2a4-4129-985e-8da0885f3209
X-WR-CALDESC:<b>This event is now SOLD OUT!</b>\n\nFloral designer Beth Whi
 te will lead this hands-on class. Learn how to create FRESH MAGIC by decor
 ating your windows and doors to create a festive atmosphere for the holida
 ys. Supplies of a fresh greenery bundle\, ribbon\, and wire are included.
 \n\nOur Holiday Greenery Sale will be going on at the same weekend - Frida
 y\, December 6th from noon to 4:30 and Saturday\, December 7th from 9 a.m.
  to noon. Participants are encouraged to browse the Greenery Sale before a
 nd after the workshop. \n\nThe workshop cost is $20 for Aldridge Gardens m
 embers and $25 for non-members.  \n\nThe class will be held in our new Edu
 cation Building. It is located near the entrance\, behind the pavilion.\n
X-WR-RELCALID:69cf25ee06c535879b3e0794b77ffba7
X-WR-TIMEZONE:America/Chicago
BEGIN:VTIMEZONE
TZID:America/Chicago
BEGIN:STANDARD
TZNAME:CST
DTSTART:20191103T020000
TZOFFSETFROM:-0500
TZOFFSETTO:-0600
RDATE:20201101T020000
END:STANDARD
BEGIN:DAYLIGHT
TZNAME:CDT
DTSTART:20190310T020000
TZOFFSETFROM:-0600
TZOFFSETTO:-0500
RDATE:20200308T020000
RDATE:20210314T020000
END:DAYLIGHT
END:VTIMEZONE
BEGIN:VEVENT
UID:1e0949d8-147a-4584-a15c-ea6f46c017f2
DTSTAMP:20260420T101025Z
DESCRIPTION:<b>This event is now SOLD OUT!</b>\n\nFloral designer Beth Whit
 e will lead this hands-on class. Learn how to create FRESH MAGIC by decora
 ting your windows and doors to create a festive atmosphere for the holiday
 s. Supplies of a fresh greenery bundle\, ribbon\, and wire are included.\n
 \nOur Holiday Greenery Sale will be going on at the same weekend - Friday\
 , December 6th from noon to 4:30 and Saturday\, December 7th from 9 a.m. t
 o noon. Participants are encouraged to browse the Greenery Sale before and
  after the workshop. \n\nThe workshop cost is $20 for Aldridge Gardens mem
 bers and $25 for non-members.  \n\nThe class will be held in our new Educa
 tion Building. It is located near the entrance\, behind the pavilion.\n
DTSTART;TZID=America/Chicago:20191206T140000
DTEND;TZID=America/Chicago:20191206T160000
LOCATION:Education Building at Aldridge Gardens
SUMMARY:Greenery Workshop with Beth White
END:VEVENT
END:VCALENDAR
