BEGIN:VCALENDAR
VERSION:2.0
PRODID:-//aldridgegardens.com//NONSGML kigkonsult.se iCalcreator 2.30.10//
CALSCALE:GREGORIAN
METHOD:PUBLISH
UID:8bfba1fa-7439-49a2-a1d4-3a1e8874633f
X-WR-CALDESC:Two Day Greenery Sale \n\nFriday\, December 6th from noon to 4
 :30 p.m.\nand\nSaturday\, December 7th from 9 a.m to noon.\n\nNow is the t
 ime to decorate your mantles\, mailboxes\, and entryways to set the mood f
 or the holidays. So decorate with bows\, fresh greenery\, and botanical ma
 terials from Aldridge Gardens! Get greenery for wreaths\, garlands\, and o
 ther holiday decorations!\n
X-WR-RELCALID:7ea892003816b1bd119c6f1fb5d89582
X-WR-TIMEZONE:America/Chicago
BEGIN:VTIMEZONE
TZID:America/Chicago
BEGIN:STANDARD
TZNAME:CST
DTSTART:20191103T020000
TZOFFSETFROM:-0500
TZOFFSETTO:-0600
RDATE:20201101T020000
END:STANDARD
BEGIN:DAYLIGHT
TZNAME:CDT
DTSTART:20190310T020000
TZOFFSETFROM:-0600
TZOFFSETTO:-0500
RDATE:20200308T020000
RDATE:20210314T020000
END:DAYLIGHT
END:VTIMEZONE
BEGIN:VEVENT
UID:8ad6b96f-32d7-47b4-b71f-2efe0bc18a06
DTSTAMP:20260420T100213Z
DESCRIPTION:Two Day Greenery Sale \n\nFriday\, December 6th from noon to 4:
 30 p.m.\nand\nSaturday\, December 7th from 9 a.m to noon.\n\nNow is the ti
 me to decorate your mantles\, mailboxes\, and entryways to set the mood fo
 r the holidays. So decorate with bows\, fresh greenery\, and botanical mat
 erials from Aldridge Gardens! Get greenery for wreaths\, garlands\, and ot
 her holiday decorations!\n
DTSTART;TZID=America/Chicago:20191207T090000
DTEND;TZID=America/Chicago:20191207T120000
LOCATION:Beside the house on the patio at ROOTS
SUMMARY:Holiday Greenery Sale
END:VEVENT
END:VCALENDAR
