BEGIN:VCALENDAR
VERSION:2.0
PRODID:-//aldridgegardens.com//NONSGML kigkonsult.se iCalcreator 2.30.10//
CALSCALE:GREGORIAN
METHOD:PUBLISH
UID:5a3607d3-9534-4252-b7d8-c11978a34d66
X-WR-CALDESC:For artist Amy Grimes\, it all starts with a story. 'As a chil
 d\, fairy tales and fantastic illustrations captivated my mind and sparked
  my passion for beautiful artwork and writing. Although I’ve created many 
 kinds of art over the years\, my favorite works of art are those inspired 
 by stories. All of my art originates from the stories I write. I see my “s
 tory paintings” as windows that provide just enough to start the observer 
 down the path\, but leave a little mystery to ignite their imagination. Li
 ght shining out of the darkness is my favorite and most recurring theme. I
  believe that artwork that reflects goodness and truth can bring light int
 o peoples lives\, encouraging them and giving them hope.\n\nMy inspiration
  comes from long walks\, rambling prayers\, starry skies\, and dreamy fair
 y tales. I enjoy a quiet life with my husband and two daughters\, in a hou
 se full of treasured books and bright colors. A sleek\, black cat and a ne
 rvous\, brown rabbit keep me company each day while I paint.'\n\nJoin us f
 or a reception to meet Amy personally and hear about her art directly from
  the artist.\n\n
X-WR-RELCALID:25d3029d8c7fd9f669858aa3c749bb22
X-WR-TIMEZONE:America/Chicago
BEGIN:VTIMEZONE
TZID:America/Chicago
BEGIN:STANDARD
TZNAME:CST
DTSTART:20191103T020000
TZOFFSETFROM:-0500
TZOFFSETTO:-0600
RDATE:20201101T020000
END:STANDARD
BEGIN:DAYLIGHT
TZNAME:CDT
DTSTART:20190310T020000
TZOFFSETFROM:-0600
TZOFFSETTO:-0500
RDATE:20200308T020000
RDATE:20210314T020000
END:DAYLIGHT
END:VTIMEZONE
BEGIN:VEVENT
UID:2f79b636-0f08-459e-9774-e06ebe5a7878
DTSTAMP:20260420T100011Z
DESCRIPTION:For artist Amy Grimes\, it all starts with a story. 'As a child
 \, fairy tales and fantastic illustrations captivated my mind and sparked 
 my passion for beautiful artwork and writing. Although I’ve created many k
 inds of art over the years\, my favorite works of art are those inspired b
 y stories. All of my art originates from the stories I write. I see my “st
 ory paintings” as windows that provide just enough to start the observer d
 own the path\, but leave a little mystery to ignite their imagination. Lig
 ht shining out of the darkness is my favorite and most recurring theme. I 
 believe that artwork that reflects goodness and truth can bring light into
  peoples lives\, encouraging them and giving them hope.\n\nMy inspiration 
 comes from long walks\, rambling prayers\, starry skies\, and dreamy fairy
  tales. I enjoy a quiet life with my husband and two daughters\, in a hous
 e full of treasured books and bright colors. A sleek\, black cat and a ner
 vous\, brown rabbit keep me company each day while I paint.'\n\nJoin us fo
 r a reception to meet Amy personally and hear about her art directly from 
 the artist.\n\n
DTSTART;TZID=America/Chicago:20191210T180000
DTEND;TZID=America/Chicago:20191210T190000
LOCATION:Eddie and Kay Aldridge Arts and Historical Collections Museum
SUMMARY:Meet the Artist Reception - Amy Grimes
END:VEVENT
END:VCALENDAR
