BEGIN:VCALENDAR
VERSION:2.0
PRODID:-//aldridgegardens.com//NONSGML kigkonsult.se iCalcreator 2.30.10//
CALSCALE:GREGORIAN
METHOD:PUBLISH
UID:f12e7910-e761-41fc-930e-1c98c3f511ff
X-WR-CALDESC:A wine reception for Propagator level members to enjoy while m
 eeting the artist. \n\nFor artist Amy Grimes\, it all starts with a story.
  'As a child\, fairy tales and fantastic illustrations captivated my mind 
 and sparked my passion for beautiful artwork and writing. Although I’ve cr
 eated many kinds of art over the years\, my favorite works of art are thos
 e inspired by stories. All of my art originates from the stories I write. 
 I see my “story paintings” as windows that provide just enough to start th
 e observer down the path\, but leave a little mystery to ignite their imag
 ination. Light shining out of the darkness is my favorite and most recurri
 ng theme. I believe that artwork that reflects goodness and truth can brin
 g light into peoples lives\, encouraging them and giving them hope.\n\nMy 
 inspiration comes from long walks\, rambling prayers\, starry skies\, and 
 dreamy fairy tales. I enjoy a quiet life with my husband and two daughters
 \, in a house full of treasured books and bright colors. A sleek\, black c
 at and a nervous\, brown rabbit keep me company each day while I paint.'\n
 \nJoin us for a reception to meet Amy personally and hear about her art di
 rectly from the artist. \n\n<b>This propagator member event will roll into
  the general artists reception beginning at 6 p.m.</b>\n\n
X-WR-RELCALID:80df2215633692b831b0ee33cf1d621b
X-WR-TIMEZONE:America/Chicago
BEGIN:VTIMEZONE
TZID:America/Chicago
BEGIN:STANDARD
TZNAME:CST
DTSTART:20191103T020000
TZOFFSETFROM:-0500
TZOFFSETTO:-0600
RDATE:20201101T020000
END:STANDARD
BEGIN:DAYLIGHT
TZNAME:CDT
DTSTART:20190310T020000
TZOFFSETFROM:-0600
TZOFFSETTO:-0500
RDATE:20200308T020000
RDATE:20210314T020000
END:DAYLIGHT
END:VTIMEZONE
BEGIN:VEVENT
UID:48fe423f-d34a-44a0-9d4c-a9967cddef4f
DTSTAMP:20260420T103653Z
DESCRIPTION:A wine reception for Propagator level members to enjoy while me
 eting the artist. \n\nFor artist Amy Grimes\, it all starts with a story. 
 'As a child\, fairy tales and fantastic illustrations captivated my mind a
 nd sparked my passion for beautiful artwork and writing. Although I’ve cre
 ated many kinds of art over the years\, my favorite works of art are those
  inspired by stories. All of my art originates from the stories I write. I
  see my “story paintings” as windows that provide just enough to start the
  observer down the path\, but leave a little mystery to ignite their imagi
 nation. Light shining out of the darkness is my favorite and most recurrin
 g theme. I believe that artwork that reflects goodness and truth can bring
  light into peoples lives\, encouraging them and giving them hope.\n\nMy i
 nspiration comes from long walks\, rambling prayers\, starry skies\, and d
 reamy fairy tales. I enjoy a quiet life with my husband and two daughters\
 , in a house full of treasured books and bright colors. A sleek\, black ca
 t and a nervous\, brown rabbit keep me company each day while I paint.'\n
 \nJoin us for a reception to meet Amy personally and hear about her art di
 rectly from the artist. \n\n<b>This propagator member event will roll into
  the general artists reception beginning at 6 p.m.</b>\n\n
DTSTART;TZID=America/Chicago:20191210T170000
DTEND;TZID=America/Chicago:20191210T180000
LOCATION:Eddie and Kay Aldridge Arts and Historical Collections Museum
SUMMARY:Propagator Wine Reception - Artist Amy Grimes
END:VEVENT
END:VCALENDAR
