BEGIN:VCALENDAR
VERSION:2.0
PRODID:-//aldridgegardens.com//NONSGML kigkonsult.se iCalcreator 2.30.10//
CALSCALE:GREGORIAN
METHOD:PUBLISH
UID:098584f1-2261-4704-a232-80e35059f460
X-WR-CALDESC:The 'Bonsai Society Members' Workshop' will be Saturday\, Janu
 ary 18th beginning at 9 a.m. We'll plan to meet in our new Education Build
 ing. Please bring your trees to work on with John.  If you are not yet a B
 onsai Member\, and are interested\, you are welcome to join and learn abou
 t the art of Bonsai.
X-WR-RELCALID:996b5889f3c230699abd502e4b652926
X-WR-TIMEZONE:America/Chicago
BEGIN:VTIMEZONE
TZID:America/Chicago
BEGIN:STANDARD
TZNAME:CST
DTSTART:20191103T020000
TZOFFSETFROM:-0500
TZOFFSETTO:-0600
RDATE:20201101T020000
END:STANDARD
BEGIN:DAYLIGHT
TZNAME:CDT
DTSTART:20190310T020000
TZOFFSETFROM:-0600
TZOFFSETTO:-0500
RDATE:20200308T020000
RDATE:20210314T020000
END:DAYLIGHT
END:VTIMEZONE
BEGIN:VEVENT
UID:87b63022-8524-47ec-8995-79ccf7525c76
DTSTAMP:20260420T120557Z
DESCRIPTION:The 'Bonsai Society Members' Workshop' will be Saturday\, Janua
 ry 18th beginning at 9 a.m. We'll plan to meet in our new Education Buildi
 ng. Please bring your trees to work on with John.  If you are not yet a Bo
 nsai Member\, and are interested\, you are welcome to join and learn about
  the art of Bonsai.
DTSTART;TZID=America/Chicago:20200118T090000
DTEND;TZID=America/Chicago:20200118T120000
LOCATION:Education Building
SUMMARY:Bonsai Society Members' Workshop
END:VEVENT
END:VCALENDAR
