BEGIN:VCALENDAR
VERSION:2.0
PRODID:-//aldridgegardens.com//NONSGML kigkonsult.se iCalcreator 2.30.10//
CALSCALE:GREGORIAN
METHOD:PUBLISH
UID:bf6c573a-4007-438a-8b9c-daf1aafbca7c
X-WR-CALDESC:The 'Bonsai Society Members' Workshop' will be Saturday\, Febr
 uary 1st beginning at 9 a.m. We'll plan to meet in our new Education Build
 ing. Please bring your trees to work on with John.  If you are not yet a B
 onsai Member\, and are interested\, you are welcome to join and learn abou
 t the art of Bonsai.\n
X-WR-RELCALID:39331689dfb58915538a401a39e70fc3
X-WR-TIMEZONE:America/Chicago
BEGIN:VTIMEZONE
TZID:America/Chicago
BEGIN:STANDARD
TZNAME:CST
DTSTART:20191103T020000
TZOFFSETFROM:-0500
TZOFFSETTO:-0600
RDATE:20201101T020000
END:STANDARD
BEGIN:DAYLIGHT
TZNAME:CDT
DTSTART:20190310T020000
TZOFFSETFROM:-0600
TZOFFSETTO:-0500
RDATE:20200308T020000
RDATE:20210314T020000
END:DAYLIGHT
END:VTIMEZONE
BEGIN:VEVENT
UID:c0db2a90-0ee4-4e3d-9796-2736a37bc496
DTSTAMP:20260420T134751Z
DESCRIPTION:The 'Bonsai Society Members' Workshop' will be Saturday\, Febru
 ary 1st beginning at 9 a.m. We'll plan to meet in our new Education Buildi
 ng. Please bring your trees to work on with John.  If you are not yet a Bo
 nsai Member\, and are interested\, you are welcome to join and learn about
  the art of Bonsai.\n
DTSTART;TZID=America/Chicago:20200201T090000
DTEND;TZID=America/Chicago:20200201T120000
LOCATION:Education Building
SUMMARY:Bonsai Society Members' Workshop
END:VEVENT
END:VCALENDAR
