BEGIN:VCALENDAR
VERSION:2.0
PRODID:-//aldridgegardens.com//NONSGML kigkonsult.se iCalcreator 2.30.10//
CALSCALE:GREGORIAN
METHOD:PUBLISH
UID:df01b8d8-57c4-48c5-b26a-ebc19801da5d
X-WR-CALDESC:<b>This event is being rescheduled from Wednesday night the 12
 th to Thursday night the 13th due to weather issues.</b>\n\nView the <a hr
 ef='https://aldridgegardens.com/education/events/spring_event_calendar.htm
 l/event/2020/02/13/meet-the-artist-reception-chuck-jones/283033'>reschedul
 ed event here</a>. \n\nChuck Jones is a native of Birmingham\, Alabama\, b
 ut has lived most of his life in Atlanta\, GA. He earned a BFA Degree from
  The Atlanta College of Art in 1976 and studied under the late Bill Yeager
 \, Lee Manners\, and John Dillon.\n\nA lifelong student of watercolors\, h
 e is influenced by Winslow Homer\, Thomas Eakins\, Howard Pyle and Andrew 
 Wyeth. Chuck feels that his work now is dedicated to a vanishing way of li
 fe and that it should reflect a historical significance. He is a resident 
 artist at Tannehill State Park and has found inspiration from the rural se
 ttings of the surrounding communities for subjects in his work.\n\nChuck i
 s a signature member of The Alabama Watercolor Society\, The Alabama Plein
  Air Artists\, and The American Watercolor Society. His paintings are in c
 orporate and private collections throughout the United States.\n\nJoin us 
 for a reception to meet Chuck personally and hear about his art directly f
 rom the artist.\n\n
X-WR-RELCALID:db99516193ac1df5648f63dc0bd93162
X-WR-TIMEZONE:America/Chicago
BEGIN:VTIMEZONE
TZID:America/Chicago
BEGIN:STANDARD
TZNAME:CST
DTSTART:20191103T020000
TZOFFSETFROM:-0500
TZOFFSETTO:-0600
RDATE:20201101T020000
END:STANDARD
BEGIN:DAYLIGHT
TZNAME:CDT
DTSTART:20190310T020000
TZOFFSETFROM:-0600
TZOFFSETTO:-0500
RDATE:20200308T020000
RDATE:20210314T020000
END:DAYLIGHT
END:VTIMEZONE
BEGIN:VEVENT
UID:7b90595f-535c-4b42-95fa-e613aedc4860
DTSTAMP:20260420T134300Z
DESCRIPTION:<b>This event is being rescheduled from Wednesday night the 12t
 h to Thursday night the 13th due to weather issues.</b>\n\nView the <a hre
 f='https://aldridgegardens.com/education/events/spring_event_calendar.html
 /event/2020/02/13/meet-the-artist-reception-chuck-jones/283033'>reschedule
 d event here</a>. \n\nChuck Jones is a native of Birmingham\, Alabama\, bu
 t has lived most of his life in Atlanta\, GA. He earned a BFA Degree from 
 The Atlanta College of Art in 1976 and studied under the late Bill Yeager\
 , Lee Manners\, and John Dillon.\n\nA lifelong student of watercolors\, he
  is influenced by Winslow Homer\, Thomas Eakins\, Howard Pyle and Andrew W
 yeth. Chuck feels that his work now is dedicated to a vanishing way of lif
 e and that it should reflect a historical significance. He is a resident a
 rtist at Tannehill State Park and has found inspiration from the rural set
 tings of the surrounding communities for subjects in his work.\n\nChuck is
  a signature member of The Alabama Watercolor Society\, The Alabama Plein 
 Air Artists\, and The American Watercolor Society. His paintings are in co
 rporate and private collections throughout the United States.\n\nJoin us f
 or a reception to meet Chuck personally and hear about his art directly fr
 om the artist.\n\n
DTSTART;TZID=America/Chicago:20200212T180000
DTEND;TZID=America/Chicago:20200212T190000
LOCATION:Eddie and Kay Aldridge Arts and Historical Collections Museum
SUMMARY:Meet the Artist Reception - Chuck Jones
END:VEVENT
END:VCALENDAR
