BEGIN:VCALENDAR
VERSION:2.0
PRODID:-//aldridgegardens.com//NONSGML kigkonsult.se iCalcreator 2.30.10//
CALSCALE:GREGORIAN
METHOD:PUBLISH
UID:2e547101-3a08-4f0d-b57f-1271d8678670
X-WR-CALDESC:<b>This event is being rescheduled from Wednesday night the 12
 th to Thursday night the 13th due to weather issues.</b>\n\nView the <a hr
 ef='https://aldridgegardens.com/education/events/spring_event_calendar.htm
 l/event/2020/02/13/propagator-wine-reception-artist-chuck-jones/283031'>re
 scheduled event here</a>. \n\nA wine reception for Propagator level member
 s to enjoy while meeting the artist. \n\nChuck Jones is a native of Birmin
 gham\, Alabama\, but has lived most of his life in Atlanta\, GA. He earned
  a BFA Degree from The Atlanta College of Art in 1976 and studied under th
 e late Bill Yeager\, Lee Manners\, and John Dillon.\n\nA lifelong student 
 of watercolors\, he is influenced by Winslow Homer\, Thomas Eakins\, Howar
 d Pyle and Andrew Wyeth. Chuck feels that his work now is dedicated to a v
 anishing way of life and that it should reflect a historical significance.
  He is a resident artist at Tannehill State Park and has found inspiration
  from the rural settings of the surrounding communities for subjects in hi
 s work.\n\nChuck is a signature member of The Alabama Watercolor Society\,
  The Alabama Plein Air Artists\, and The American Watercolor Society. His 
 paintings are in corporate and private collections throughout the United S
 tates.\n\nJoin us for a reception to meet Chuck personally and hear about 
 his art directly from the artist. \n\n<b>This propagator member event will
  roll into the general artists reception beginning at 6 p.m.</b>\n\n
X-WR-RELCALID:b75fa346c495c444ee015ecf58a82563
X-WR-TIMEZONE:America/Chicago
BEGIN:VTIMEZONE
TZID:America/Chicago
BEGIN:STANDARD
TZNAME:CST
DTSTART:20191103T020000
TZOFFSETFROM:-0500
TZOFFSETTO:-0600
RDATE:20201101T020000
END:STANDARD
BEGIN:DAYLIGHT
TZNAME:CDT
DTSTART:20190310T020000
TZOFFSETFROM:-0600
TZOFFSETTO:-0500
RDATE:20200308T020000
RDATE:20210314T020000
END:DAYLIGHT
END:VTIMEZONE
BEGIN:VEVENT
UID:3a529f1c-7ed4-4bb3-81d3-8873fe1ba7f1
DTSTAMP:20260420T134839Z
DESCRIPTION:<b>This event is being rescheduled from Wednesday night the 12t
 h to Thursday night the 13th due to weather issues.</b>\n\nView the <a hre
 f='https://aldridgegardens.com/education/events/spring_event_calendar.html
 /event/2020/02/13/propagator-wine-reception-artist-chuck-jones/283031'>res
 cheduled event here</a>. \n\nA wine reception for Propagator level members
  to enjoy while meeting the artist. \n\nChuck Jones is a native of Birming
 ham\, Alabama\, but has lived most of his life in Atlanta\, GA. He earned 
 a BFA Degree from The Atlanta College of Art in 1976 and studied under the
  late Bill Yeager\, Lee Manners\, and John Dillon.\n\nA lifelong student o
 f watercolors\, he is influenced by Winslow Homer\, Thomas Eakins\, Howard
  Pyle and Andrew Wyeth. Chuck feels that his work now is dedicated to a va
 nishing way of life and that it should reflect a historical significance. 
 He is a resident artist at Tannehill State Park and has found inspiration 
 from the rural settings of the surrounding communities for subjects in his
  work.\n\nChuck is a signature member of The Alabama Watercolor Society\, 
 The Alabama Plein Air Artists\, and The American Watercolor Society. His p
 aintings are in corporate and private collections throughout the United St
 ates.\n\nJoin us for a reception to meet Chuck personally and hear about h
 is art directly from the artist. \n\n<b>This propagator member event will 
 roll into the general artists reception beginning at 6 p.m.</b>\n\n
DTSTART;TZID=America/Chicago:20200212T170000
DTEND;TZID=America/Chicago:20200212T180000
LOCATION:Eddie and Kay Aldridge Arts and Historical Collections Museum
SUMMARY:Propagator Wine Reception - Artist Chuck Jones
END:VEVENT
END:VCALENDAR
