BEGIN:VCALENDAR
VERSION:2.0
PRODID:-//aldridgegardens.com//NONSGML kigkonsult.se iCalcreator 2.30.10//
CALSCALE:GREGORIAN
METHOD:PUBLISH
UID:4a200a76-f59b-479e-ab35-c0e57db77800
X-WR-CALDESC:<b>This event was rescheduled from Wednesday night due to weat
 her issues.</b>\n\nChuck Jones is a native of Birmingham\, Alabama\, but h
 as lived most of his life in Atlanta\, GA. He earned a BFA Degree from The
  Atlanta College of Art in 1976 and studied under the late Bill Yeager\, L
 ee Manners\, and John Dillon.\n\nA lifelong student of watercolors\, he is
  influenced by Winslow Homer\, Thomas Eakins\, Howard Pyle and Andrew Wyet
 h. Chuck feels that his work now is dedicated to a vanishing way of life a
 nd that it should reflect a historical significance. He is a resident arti
 st at Tannehill State Park and has found inspiration from the rural settin
 gs of the surrounding communities for subjects in his work.\n\nChuck is a 
 signature member of The Alabama Watercolor Society\, The Alabama Plein Air
  Artists\, and The American Watercolor Society. His paintings are in corpo
 rate and private collections throughout the United States.\n\nJoin us for 
 a reception to meet Chuck personally and hear about his art directly from 
 the artist.\n\n
X-WR-RELCALID:c917ccdf3f06ba87e49521476b1a74f6
X-WR-TIMEZONE:America/Chicago
BEGIN:VTIMEZONE
TZID:America/Chicago
BEGIN:STANDARD
TZNAME:CST
DTSTART:20191103T020000
TZOFFSETFROM:-0500
TZOFFSETTO:-0600
RDATE:20201101T020000
END:STANDARD
BEGIN:DAYLIGHT
TZNAME:CDT
DTSTART:20190310T020000
TZOFFSETFROM:-0600
TZOFFSETTO:-0500
RDATE:20200308T020000
RDATE:20210314T020000
END:DAYLIGHT
END:VTIMEZONE
BEGIN:VEVENT
UID:5cc5e462-6efe-41d0-9df3-be72469c173a
DTSTAMP:20260420T152019Z
DESCRIPTION:<b>This event was rescheduled from Wednesday night due to weath
 er issues.</b>\n\nChuck Jones is a native of Birmingham\, Alabama\, but ha
 s lived most of his life in Atlanta\, GA. He earned a BFA Degree from The 
 Atlanta College of Art in 1976 and studied under the late Bill Yeager\, Le
 e Manners\, and John Dillon.\n\nA lifelong student of watercolors\, he is 
 influenced by Winslow Homer\, Thomas Eakins\, Howard Pyle and Andrew Wyeth
 . Chuck feels that his work now is dedicated to a vanishing way of life an
 d that it should reflect a historical significance. He is a resident artis
 t at Tannehill State Park and has found inspiration from the rural setting
 s of the surrounding communities for subjects in his work.\n\nChuck is a s
 ignature member of The Alabama Watercolor Society\, The Alabama Plein Air 
 Artists\, and The American Watercolor Society. His paintings are in corpor
 ate and private collections throughout the United States.\n\nJoin us for a
  reception to meet Chuck personally and hear about his art directly from t
 he artist.\n\n
DTSTART;TZID=America/Chicago:20200213T180000
DTEND;TZID=America/Chicago:20200213T190000
LOCATION:Eddie and Kay Aldridge Arts and Historical Collections Museum
SUMMARY:Meet the Artist Reception - Chuck Jones
END:VEVENT
END:VCALENDAR
