BEGIN:VCALENDAR
VERSION:2.0
PRODID:-//aldridgegardens.com//NONSGML kigkonsult.se iCalcreator 2.30.10//
CALSCALE:GREGORIAN
METHOD:PUBLISH
UID:66a1d0f8-eb47-49b7-a52f-c8862aa6df24
X-WR-CALDESC:<b>This event is now SOLD OUT.</b>\n\nParents and grandparents
 \, bring your child/grandchild to our Mad Hatter’s Fairy Garden Tea Party!
  \n\nThis is the requested repeat of our popular Mad Hatter Fairy Garden T
 ea Parties from July 2018\,  January 2019\, July 2019\, and October 2019. 
 We will decorate a small garden container\, then have “tea” (finger sandwi
 ches and desserts) while the containers dry. We'll play games and then pot
  up the containers to take home. Don't forget your hat!\n\nCost for Aldrid
 ge Gardens members $35\, while non-members is $40.\n<b>1 registration incl
 udes 1 adult + 1 child (aged 4 to 12)</b>\nMaximum 12 registrations (24 pe
 ople)\n\n<b>This event is now SOLD OUT.</b>
X-WR-RELCALID:d078a3ac39f6a2d60b95c8aba57c5e33
X-WR-TIMEZONE:America/Chicago
BEGIN:VTIMEZONE
TZID:America/Chicago
BEGIN:STANDARD
TZNAME:CST
DTSTART:20191103T020000
TZOFFSETFROM:-0500
TZOFFSETTO:-0600
RDATE:20201101T020000
END:STANDARD
BEGIN:DAYLIGHT
TZNAME:CDT
DTSTART:20190310T020000
TZOFFSETFROM:-0600
TZOFFSETTO:-0500
RDATE:20200308T020000
RDATE:20210314T020000
END:DAYLIGHT
END:VTIMEZONE
BEGIN:VEVENT
UID:2d575102-daf7-4faf-827d-db2c85df6eee
DTSTAMP:20260420T134454Z
DESCRIPTION:<b>This event is now SOLD OUT.</b>\n\nParents and grandparents\
 , bring your child/grandchild to our Mad Hatter’s Fairy Garden Tea Party! 
 \n\nThis is the requested repeat of our popular Mad Hatter Fairy Garden Te
 a Parties from July 2018\,  January 2019\, July 2019\, and October 2019. W
 e will decorate a small garden container\, then have “tea” (finger sandwic
 hes and desserts) while the containers dry. We'll play games and then pot 
 up the containers to take home. Don't forget your hat!\n\nCost for Aldridg
 e Gardens members $35\, while non-members is $40.\n<b>1 registration inclu
 des 1 adult + 1 child (aged 4 to 12)</b>\nMaximum 12 registrations (24 peo
 ple)\n\n<b>This event is now SOLD OUT.</b>
DTSTART;TZID=America/Chicago:20200218T110000
DTEND;TZID=America/Chicago:20200218T130000
LOCATION:The House and Patio at Aldridge Gardens
SUMMARY:Mad Hatter’s Fairy Garden Tea Party
END:VEVENT
END:VCALENDAR
