BEGIN:VCALENDAR
VERSION:2.0
PRODID:-//aldridgegardens.com//NONSGML kigkonsult.se iCalcreator 2.30.10//
CALSCALE:GREGORIAN
METHOD:PUBLISH
UID:2b697959-a00c-460b-b0f1-c354628f12c6
X-WR-CALDESC:Square Foot Gardening with Jan Rogers\n'Raised Beds\, Containe
 rs\, and Small Spaces'\n\nWe'll be focusing on getting ready for spring\, 
 summer\, and fall plantings with an emphasis on designing an actual bed. L
 eave the session with confidence in planting your raised bed or small spac
 e garden.  You will learn how to plot it out and choose plants for three s
 easons. Plus you'll receive free seeds!\n\nCost is $20 for Aldridge Garden
 s members or $25 for non-members.\nClass size is limited. Registration req
 uired.\n\n\n
X-WR-RELCALID:c1d365d60a77452efff5585cd5f97410
X-WR-TIMEZONE:America/Chicago
BEGIN:VTIMEZONE
TZID:America/Chicago
BEGIN:STANDARD
TZNAME:CST
DTSTART:20191103T020000
TZOFFSETFROM:-0500
TZOFFSETTO:-0600
RDATE:20201101T020000
END:STANDARD
BEGIN:DAYLIGHT
TZNAME:CDT
DTSTART:20190310T020000
TZOFFSETFROM:-0600
TZOFFSETTO:-0500
RDATE:20200308T020000
RDATE:20210314T020000
END:DAYLIGHT
END:VTIMEZONE
BEGIN:VEVENT
UID:5ee42495-938a-44e6-9ce2-b4f6be4e10f0
DTSTAMP:20260420T134300Z
DESCRIPTION:Square Foot Gardening with Jan Rogers\n'Raised Beds\, Container
 s\, and Small Spaces'\n\nWe'll be focusing on getting ready for spring\, s
 ummer\, and fall plantings with an emphasis on designing an actual bed. Le
 ave the session with confidence in planting your raised bed or small space
  garden.  You will learn how to plot it out and choose plants for three se
 asons. Plus you'll receive free seeds!\n\nCost is $20 for Aldridge Gardens
  members or $25 for non-members.\nClass size is limited. Registration requ
 ired.\n\n\n
DTSTART;TZID=America/Chicago:20200220T180000
DTEND;TZID=America/Chicago:20200220T200000
LOCATION:
SUMMARY:Square Foot Gardening - Raised Beds\, Containers\, and Small Spaces
END:VEVENT
END:VCALENDAR
