BEGIN:VCALENDAR
VERSION:2.0
PRODID:-//aldridgegardens.com//NONSGML kigkonsult.se iCalcreator 2.30.10//
CALSCALE:GREGORIAN
METHOD:PUBLISH
UID:922c6a33-7748-417c-8d71-5b30805b9b24
X-WR-CALDESC:Sharon Deep Nelson\, Landscape Architect and Certified Arboris
 t with the City of Hoover\, will share an introduction to the world of Lic
 hens. What they are\, where to find them\, and why they are useful.  Join 
 us for a fun session of identifying and discussing lichens all around. Wea
 r your walking shoes\, weather permitting\, we will roam around the garden
 s after an indoor presentation of the little known or talked about amazing
 \, weird\, and beautiful world of Lichens. \n\nFree class for Aldridge Gar
 dens Members\, March 5th at 10 a.m.\, Education Building\n\n<b>Instructor:
  </b>\nSharon Deep Nelson\, Landscape Architect and Certified Arborist wit
 h the City of Hoover\n
X-WR-RELCALID:a26b0bf8e6e4379f5c399c7b9767c9e6
X-WR-TIMEZONE:America/Chicago
BEGIN:VTIMEZONE
TZID:America/Chicago
BEGIN:STANDARD
TZNAME:CST
DTSTART:20191103T020000
TZOFFSETFROM:-0500
TZOFFSETTO:-0600
RDATE:20201101T020000
END:STANDARD
BEGIN:DAYLIGHT
TZNAME:CDT
DTSTART:20190310T020000
TZOFFSETFROM:-0600
TZOFFSETTO:-0500
RDATE:20200308T020000
RDATE:20210314T020000
END:DAYLIGHT
END:VTIMEZONE
BEGIN:VEVENT
UID:94f7ddb4-046d-4719-8f5d-5e7700cceb66
DTSTAMP:20260420T150803Z
DESCRIPTION:Sharon Deep Nelson\, Landscape Architect and Certified Arborist
  with the City of Hoover\, will share an introduction to the world of Lich
 ens. What they are\, where to find them\, and why they are useful.  Join u
 s for a fun session of identifying and discussing lichens all around. Wear
  your walking shoes\, weather permitting\, we will roam around the gardens
  after an indoor presentation of the little known or talked about amazing\
 , weird\, and beautiful world of Lichens. \n\nFree class for Aldridge Gard
 ens Members\, March 5th at 10 a.m.\, Education Building\n\n<b>Instructor: 
 </b>\nSharon Deep Nelson\, Landscape Architect and Certified Arborist with
  the City of Hoover\n
DTSTART;TZID=America/Chicago:20200305T100000
DTEND;TZID=America/Chicago:20200305T120000
LOCATION:
SUMMARY:Lookin’ at Lichen - Garden Members Class
END:VEVENT
END:VCALENDAR
