BEGIN:VCALENDAR
VERSION:2.0
PRODID:-//aldridgegardens.com//NONSGML kigkonsult.se iCalcreator 2.30.10//
CALSCALE:GREGORIAN
METHOD:PUBLISH
UID:0cc0ae6f-ab75-4447-be04-16bef8cc94c6
X-WR-CALDESC:The 'Bonsai Society Members' Workshop' will be Saturday\, Marc
 h 7th beginning at 9 a.m. We'll plan to meet in our new Education Building
 . Please bring your trees to work on with John.  If you are not yet a Bons
 ai Member\, and are interested\, you are welcome to join and learn about t
 he art of Bonsai.\n
X-WR-RELCALID:d17fc06ca4a1a8c837e786cf13addc7e
X-WR-TIMEZONE:America/Chicago
BEGIN:VTIMEZONE
TZID:America/Chicago
BEGIN:STANDARD
TZNAME:CST
DTSTART:20191103T020000
TZOFFSETFROM:-0500
TZOFFSETTO:-0600
RDATE:20201101T020000
END:STANDARD
BEGIN:DAYLIGHT
TZNAME:CDT
DTSTART:20190310T020000
TZOFFSETFROM:-0600
TZOFFSETTO:-0500
RDATE:20200308T020000
RDATE:20210314T020000
END:DAYLIGHT
END:VTIMEZONE
BEGIN:VEVENT
UID:2fe90ffa-6299-4dad-90e6-1b4e9a70dcec
DTSTAMP:20260420T150336Z
DESCRIPTION:The 'Bonsai Society Members' Workshop' will be Saturday\, March
  7th beginning at 9 a.m. We'll plan to meet in our new Education Building.
  Please bring your trees to work on with John.  If you are not yet a Bonsa
 i Member\, and are interested\, you are welcome to join and learn about th
 e art of Bonsai.\n
DTSTART;TZID=America/Chicago:20200307T090000
DTEND;TZID=America/Chicago:20200307T120000
LOCATION:Education Building
SUMMARY:Bonsai Society Members' Workshop
END:VEVENT
END:VCALENDAR
