BEGIN:VCALENDAR
VERSION:2.0
PRODID:-//aldridgegardens.com//NONSGML kigkonsult.se iCalcreator 2.30.10//
CALSCALE:GREGORIAN
METHOD:PUBLISH
UID:c9ecf4f7-d697-4233-8ea2-3fca4d5cd17f
X-WR-CALDESC:Join us at Aldridge Gardens on Saturday\, March 7th from 9:30 
 to 11:30 a.m. for the 22nd Annual Hoover Arbor Day Celebration. \n\nPresen
 ted by the Hoover Beautification Board\, this community-wide celebration w
 ill feature a formal ceremony honoring winners of this year’s 4th Grade Ar
 bor Day Essay Contest\, FREE TREES for Hoover residents\, a ceremonial tre
 e planting\, full access to Aldridge Gardens and the Roots gift shop\, as 
 well as assorted refreshments from local businesses. ISA Certified Arboris
 ts and other plant professionals will be on site to answer tree related qu
 estions and to assist residents with selecting an appropriate tree for the
 ir yard. \n\nAn additional feature of the 2020 celebration will be the off
 icial measuring of what may be a new Guinness World Record in the category
  of World’s Largest Oak Leaf! Discovered late last year in Sumter county\,
  AL\, this gigantic cherrybark oak leaf will be on display during the Arbo
 r Day ceremony and measured immediately following\, per the Guinness guide
 lines.\n\nArbor Day in Hoover is the result of a continued partnership bet
 ween the City of Hoover\, Hoover City School System\, Alabama Power\, Aldr
 idge Gardens\, local businesses\, and numerous volunteers. These partners 
 believe in the value trees bring to our community and they understand the 
 importance of planting the right tree in the right place.\n\n<i>Photo cour
 tesy: Hoover Sun</i>
X-WR-RELCALID:b5f6111baab6b5c7ce569369ca90b128
X-WR-TIMEZONE:America/Chicago
BEGIN:VTIMEZONE
TZID:America/Chicago
BEGIN:STANDARD
TZNAME:CST
DTSTART:20191103T020000
TZOFFSETFROM:-0500
TZOFFSETTO:-0600
RDATE:20201101T020000
END:STANDARD
BEGIN:DAYLIGHT
TZNAME:CDT
DTSTART:20190310T020000
TZOFFSETFROM:-0600
TZOFFSETTO:-0500
RDATE:20200308T020000
RDATE:20210314T020000
END:DAYLIGHT
END:VTIMEZONE
BEGIN:VEVENT
UID:2ccbaa15-dc47-47db-a677-099620e472bd
DTSTAMP:20260420T150445Z
DESCRIPTION:Join us at Aldridge Gardens on Saturday\, March 7th from 9:30 t
 o 11:30 a.m. for the 22nd Annual Hoover Arbor Day Celebration. \n\nPresent
 ed by the Hoover Beautification Board\, this community-wide celebration wi
 ll feature a formal ceremony honoring winners of this year’s 4th Grade Arb
 or Day Essay Contest\, FREE TREES for Hoover residents\, a ceremonial tree
  planting\, full access to Aldridge Gardens and the Roots gift shop\, as w
 ell as assorted refreshments from local businesses. ISA Certified Arborist
 s and other plant professionals will be on site to answer tree related que
 stions and to assist residents with selecting an appropriate tree for thei
 r yard. \n\nAn additional feature of the 2020 celebration will be the offi
 cial measuring of what may be a new Guinness World Record in the category 
 of World’s Largest Oak Leaf! Discovered late last year in Sumter county\, 
 AL\, this gigantic cherrybark oak leaf will be on display during the Arbor
  Day ceremony and measured immediately following\, per the Guinness guidel
 ines.\n\nArbor Day in Hoover is the result of a continued partnership betw
 een the City of Hoover\, Hoover City School System\, Alabama Power\, Aldri
 dge Gardens\, local businesses\, and numerous volunteers. These partners b
 elieve in the value trees bring to our community and they understand the i
 mportance of planting the right tree in the right place.\n\n<i>Photo court
 esy: Hoover Sun</i>
DTSTART;TZID=America/Chicago:20200307T093000
DTEND;TZID=America/Chicago:20200307T113000
LOCATION:Aldridge Gardens
SUMMARY:City of Hoover’s 22nd Annual Arbor Day Celebration
END:VEVENT
END:VCALENDAR
