BEGIN:VCALENDAR
VERSION:2.0
PRODID:-//aldridgegardens.com//NONSGML kigkonsult.se iCalcreator 2.30.10//
CALSCALE:GREGORIAN
METHOD:PUBLISH
UID:1d5a3cdc-e9b3-404c-8fc2-f97067ba58c8
X-WR-CALDESC:<b>All Aldridge Gardens educational classes are now cancelled 
 until further notice in an attempt to prevent the spread of COVID-19. </b>
 \n\nPanel Discussion of Identifying Invasives and their Alternatives\n\nEv
 eryone with an environmental mindset about their garden and yard will be i
 nterested in this panel discussion about invasives and their alternatives.
   Our panel will consist of Colin Conner (Arborist for the City of Hoover)
 \, Steve Bender (The Grumpy Gardener author)\, Deb Elliott (Master Gardene
 r)\, and our own Rip Weaver (Executive Director of Aldridge Gardens). Wedn
 esday\, March 18\, from 6 to 8 p.m. in our NaphCare Education Building.  
 \n\nYou will find out what Invasives are\, why our panel is against them\,
  what you can do about them\, and what you might plant in their place.  Wh
 ere else can you find this awesome group of experts all in one place at th
 e same time?  Bring your questions!\n\nThis event is FREE to Aldridge Gard
 ens members and $10 for nonmembers. Registration is required. \n
X-WR-RELCALID:9bbaf676e6e9fc7e480e75da9e7dd09a
X-WR-TIMEZONE:America/Chicago
BEGIN:VTIMEZONE
TZID:America/Chicago
BEGIN:STANDARD
TZNAME:CST
DTSTART:20191103T020000
TZOFFSETFROM:-0500
TZOFFSETTO:-0600
RDATE:20201101T020000
END:STANDARD
BEGIN:DAYLIGHT
TZNAME:CDT
DTSTART:20200308T020000
TZOFFSETFROM:-0600
TZOFFSETTO:-0500
RDATE:20210314T020000
END:DAYLIGHT
END:VTIMEZONE
BEGIN:VEVENT
UID:54299c9e-9054-4eaf-9473-967a9a98d7f7
DTSTAMP:20260420T150828Z
DESCRIPTION:<b>All Aldridge Gardens educational classes are now cancelled u
 ntil further notice in an attempt to prevent the spread of COVID-19. </b>
 \n\nPanel Discussion of Identifying Invasives and their Alternatives\n\nEv
 eryone with an environmental mindset about their garden and yard will be i
 nterested in this panel discussion about invasives and their alternatives.
   Our panel will consist of Colin Conner (Arborist for the City of Hoover)
 \, Steve Bender (The Grumpy Gardener author)\, Deb Elliott (Master Gardene
 r)\, and our own Rip Weaver (Executive Director of Aldridge Gardens). Wedn
 esday\, March 18\, from 6 to 8 p.m. in our NaphCare Education Building.  
 \n\nYou will find out what Invasives are\, why our panel is against them\,
  what you can do about them\, and what you might plant in their place.  Wh
 ere else can you find this awesome group of experts all in one place at th
 e same time?  Bring your questions!\n\nThis event is FREE to Aldridge Gard
 ens members and $10 for nonmembers. Registration is required. \n
DTSTART;TZID=America/Chicago:20200318T180000
DTEND;TZID=America/Chicago:20200318T200000
LOCATION:The NaphCare Education Building at Aldridge Gardens
SUMMARY:Panel Discussion Identifying Invasives and their Alternatives
END:VEVENT
END:VCALENDAR
