BEGIN:VCALENDAR
VERSION:2.0
PRODID:-//aldridgegardens.com//NONSGML kigkonsult.se iCalcreator 2.30.10//
CALSCALE:GREGORIAN
METHOD:PUBLISH
UID:bee85092-097d-40d9-b171-b004031dc4ca
X-WR-CALDESC:<b>All Aldridge Gardens educational classes are now cancelled 
 until further notice in an attempt to prevent the spread of COVID-19. </b>
 \n\n\nPlan Your Spring and Summer Garden\n\nMake Plans for your spring and
  summer gardens!  Jan Rogers and members of the Aldridge Gardens Spring Pl
 ant Sale will help you plan your green spots to maximize your spring and s
 ummer garden. Then they'll thrill you with samples and sale items to inclu
 de in your plans!  \n\nCost is $20 for Aldridge Gardens members or $25 for
  non-members.\nClass size is limited. Registration required.\n\n\n
X-WR-RELCALID:eecceaee2b4b88fa92c86d329748cf0e
X-WR-TIMEZONE:America/Chicago
BEGIN:VTIMEZONE
TZID:America/Chicago
BEGIN:STANDARD
TZNAME:CST
DTSTART:20191103T020000
TZOFFSETFROM:-0500
TZOFFSETTO:-0600
RDATE:20201101T020000
END:STANDARD
BEGIN:DAYLIGHT
TZNAME:CDT
DTSTART:20200308T020000
TZOFFSETFROM:-0600
TZOFFSETTO:-0500
RDATE:20210314T020000
END:DAYLIGHT
END:VTIMEZONE
BEGIN:VEVENT
UID:ed60beb9-c90b-487c-b8df-4d90aab6c053
DTSTAMP:20260420T151039Z
DESCRIPTION:<b>All Aldridge Gardens educational classes are now cancelled u
 ntil further notice in an attempt to prevent the spread of COVID-19. </b>
 \n\n\nPlan Your Spring and Summer Garden\n\nMake Plans for your spring and
  summer gardens!  Jan Rogers and members of the Aldridge Gardens Spring Pl
 ant Sale will help you plan your green spots to maximize your spring and s
 ummer garden. Then they'll thrill you with samples and sale items to inclu
 de in your plans!  \n\nCost is $20 for Aldridge Gardens members or $25 for
  non-members.\nClass size is limited. Registration required.\n\n\n
DTSTART;TZID=America/Chicago:20200319T180000
DTEND;TZID=America/Chicago:20200319T200000
LOCATION:
SUMMARY:Plan Your Garden Class
END:VEVENT
END:VCALENDAR
