BEGIN:VCALENDAR
VERSION:2.0
PRODID:-//aldridgegardens.com//NONSGML kigkonsult.se iCalcreator 2.30.10//
CALSCALE:GREGORIAN
METHOD:PUBLISH
UID:9243e7f7-b172-4a17-adbf-4bc72c2ec523
X-WR-CALDESC:<b>All Aldridge Gardens educational classes are now cancelled 
 until further notice in an attempt to prevent the spread of COVID-19. </b>
 \n\n\n“Aromi Azaleas – Native Azaleas from an Alabama Native’”\n\nJoin us 
 for a presentation on and discussion of Aromi Azaleas with David Doggett. 
 \n\nAldridge Gardens has one of the few collections of Aromi azaleas in th
 e state\, with over 19 different varieties. Dr. Eugene Aromi was a Mobile 
 native\, university professor\, and “amateur” gardener. Around 1970 he beg
 an experimenting crossing deciduous azaleas native to the Mobile area with
  the elaborately and colorfully blooming English hybrids known as Exbury a
 zaleas. His goal was to produce superior blooming deciduous azalea hybrids
  that could stand up to south Alabama's heat and humidity. Dr. Aromi perfo
 rmed over 1\,000 crosses and evaluated over 50\,000 plants - of which he s
 elected just over 100 to be named. The plants were donated some years ago 
 by Maarten van der Giessen who has inherited Dr. Aromi's work. This progra
 m reviews the history of hybridizing azaleas and shows beautiful photos of
  Dr. Aromi’s life’s work.\n\nThis is a free class for Aldridge Gardens Mem
 bers\, March 26th at 10 a.m.\, Education Building. Use the 'Register Now' 
 button at the top of this page to RSVP for this event and <b>please make s
 ure to bring your Aldridge Gardens membership card with you.</b>\n\n<b>Ins
 tructor: </b>\nDavid Doggett\n
X-WR-RELCALID:32352f154b2ad73cabbf0d4c67e96378
X-WR-TIMEZONE:America/Chicago
BEGIN:VTIMEZONE
TZID:America/Chicago
BEGIN:STANDARD
TZNAME:CST
DTSTART:20191103T020000
TZOFFSETFROM:-0500
TZOFFSETTO:-0600
RDATE:20201101T020000
END:STANDARD
BEGIN:DAYLIGHT
TZNAME:CDT
DTSTART:20200308T020000
TZOFFSETFROM:-0600
TZOFFSETTO:-0500
RDATE:20210314T020000
END:DAYLIGHT
END:VTIMEZONE
BEGIN:VEVENT
UID:39921bc9-1da9-4208-bc11-38ae5788f969
DTSTAMP:20260420T150505Z
DESCRIPTION:<b>All Aldridge Gardens educational classes are now cancelled u
 ntil further notice in an attempt to prevent the spread of COVID-19. </b>
 \n\n\n“Aromi Azaleas – Native Azaleas from an Alabama Native’”\n\nJoin us 
 for a presentation on and discussion of Aromi Azaleas with David Doggett. 
 \n\nAldridge Gardens has one of the few collections of Aromi azaleas in th
 e state\, with over 19 different varieties. Dr. Eugene Aromi was a Mobile 
 native\, university professor\, and “amateur” gardener. Around 1970 he beg
 an experimenting crossing deciduous azaleas native to the Mobile area with
  the elaborately and colorfully blooming English hybrids known as Exbury a
 zaleas. His goal was to produce superior blooming deciduous azalea hybrids
  that could stand up to south Alabama's heat and humidity. Dr. Aromi perfo
 rmed over 1\,000 crosses and evaluated over 50\,000 plants - of which he s
 elected just over 100 to be named. The plants were donated some years ago 
 by Maarten van der Giessen who has inherited Dr. Aromi's work. This progra
 m reviews the history of hybridizing azaleas and shows beautiful photos of
  Dr. Aromi’s life’s work.\n\nThis is a free class for Aldridge Gardens Mem
 bers\, March 26th at 10 a.m.\, Education Building. Use the 'Register Now' 
 button at the top of this page to RSVP for this event and <b>please make s
 ure to bring your Aldridge Gardens membership card with you.</b>\n\n<b>Ins
 tructor: </b>\nDavid Doggett\n
DTSTART;TZID=America/Chicago:20200326T100000
DTEND;TZID=America/Chicago:20200326T110000
LOCATION:
SUMMARY:Azalea Talk - Garden Members Class
END:VEVENT
END:VCALENDAR
