BEGIN:VCALENDAR
VERSION:2.0
PRODID:-//aldridgegardens.com//NONSGML kigkonsult.se iCalcreator 2.30.10//
CALSCALE:GREGORIAN
METHOD:PUBLISH
UID:670c8f12-08cb-4893-9530-bff141a00320
X-WR-CALDESC:<b>All Aldridge Gardens educational classes are now cancelled 
 until further notice in an attempt to prevent the spread of COVID-19. </b>
 \n\nSaturday mornings were made for this!\n\nYou can't go wrong with fresh
  air and a little exercise while on a guided tour of the Gardens. Join Dr.
  Richard and Patricia Ryel for a walk on our grounds to catch a glimpse of
  the beautiful birds that are migrating through the area. Over 100 differe
 nt species have been spotted in the Gardens during past bird watching even
 ts. \n\nThis monthly members-only event is free\, but we do ask that you k
 indly RSVP.  \n\nThe remaining dates of this year's currently scheduled bi
 rd watches are:\nApril 18\nMay 16\nJune 20\nJuly 18\nAugust 15\nSeptember 
 19\nOctober 17\nNovember 21\n\n
X-WR-RELCALID:28ca05ccf8c8106f80c9c61cb5af86cd
X-WR-TIMEZONE:America/Chicago
BEGIN:VTIMEZONE
TZID:America/Chicago
BEGIN:STANDARD
TZNAME:CST
DTSTART:20191103T020000
TZOFFSETFROM:-0500
TZOFFSETTO:-0600
RDATE:20201101T020000
END:STANDARD
BEGIN:DAYLIGHT
TZNAME:CDT
DTSTART:20200308T020000
TZOFFSETFROM:-0600
TZOFFSETTO:-0500
RDATE:20210314T020000
END:DAYLIGHT
END:VTIMEZONE
BEGIN:VEVENT
UID:2cf75ed6-710f-4f97-81ce-89d978999560
DTSTAMP:20260420T171753Z
DESCRIPTION:<b>All Aldridge Gardens educational classes are now cancelled u
 ntil further notice in an attempt to prevent the spread of COVID-19. </b>
 \n\nSaturday mornings were made for this!\n\nYou can't go wrong with fresh
  air and a little exercise while on a guided tour of the Gardens. Join Dr.
  Richard and Patricia Ryel for a walk on our grounds to catch a glimpse of
  the beautiful birds that are migrating through the area. Over 100 differe
 nt species have been spotted in the Gardens during past bird watching even
 ts. \n\nThis monthly members-only event is free\, but we do ask that you k
 indly RSVP.  \n\nThe remaining dates of this year's currently scheduled bi
 rd watches are:\nApril 18\nMay 16\nJune 20\nJuly 18\nAugust 15\nSeptember 
 19\nOctober 17\nNovember 21\n\n
DTSTART;TZID=America/Chicago:20200418T080000
DTEND;TZID=America/Chicago:20200418T100000
LOCATION:
SUMMARY:Members Only Guided Bird Watch
END:VEVENT
END:VCALENDAR
