BEGIN:VCALENDAR
VERSION:2.0
PRODID:-//aldridgegardens.com//NONSGML kigkonsult.se iCalcreator 2.30.10//
CALSCALE:GREGORIAN
METHOD:PUBLISH
UID:39e91c91-56b8-4dfc-b790-e60f5d162805
X-WR-CALDESC:<b>Cancelled due to the COVID-19 event.</b>\n\nJoin us for our
  annual Spring Plant Sale. \n\nMembers Sale - Wednesday\, April 29 - Noon 
 to 5 p.m.\nAnnual Spring Plant Sale - Thursday\, April 30 - 9 a.m. to 5 p.
 m.\nAnnual Spring Plant Sale - Friday\, May 1 - 9 a.m. to 5 p.m.\nAnnual S
 pring Plant Sale - Saturday\, May 2 - 9 a.m. to Noon\n\nFind the perfect p
 lants for your container or garden spot! Volunteers and gardeners will be 
 on hand to help with selections and to give advice about placement\, care 
 and maintenance. \n\nCustomers can own 'a little bit of Aldridge Gardens' 
 when they buy a pass-along plant that lived there! We are going to have ma
 ny plants with an Aldridge Gardens heritage. In addition\, we'll also have
  many more from members and friends of the gardens!\n\nOur main feature is
  always the 'Snowflake' hydrangea\, but shoppers can also choose from a ho
 st of others. Shoppers will find many varieties and sizes of hydrangeas at
  our annual Spring Plant Sale! \n\nMembers get 10% off all purchases with 
 their membership card!
X-WR-RELCALID:090e6ebc4d8051299d2d5ba8ff9336b3
X-WR-TIMEZONE:America/Chicago
BEGIN:VTIMEZONE
TZID:America/Chicago
BEGIN:STANDARD
TZNAME:CST
DTSTART:20191103T020000
TZOFFSETFROM:-0500
TZOFFSETTO:-0600
RDATE:20201101T020000
END:STANDARD
BEGIN:DAYLIGHT
TZNAME:CDT
DTSTART:20200308T020000
TZOFFSETFROM:-0600
TZOFFSETTO:-0500
RDATE:20210314T020000
END:DAYLIGHT
END:VTIMEZONE
BEGIN:VEVENT
UID:ddf48e1a-5cb7-45c1-a331-983eacd81944
DTSTAMP:20260420T183451Z
DESCRIPTION:<b>Cancelled due to the COVID-19 event.</b>\n\nJoin us for our 
 annual Spring Plant Sale. \n\nMembers Sale - Wednesday\, April 29 - Noon t
 o 5 p.m.\nAnnual Spring Plant Sale - Thursday\, April 30 - 9 a.m. to 5 p.m
 .\nAnnual Spring Plant Sale - Friday\, May 1 - 9 a.m. to 5 p.m.\nAnnual Sp
 ring Plant Sale - Saturday\, May 2 - 9 a.m. to Noon\n\nFind the perfect pl
 ants for your container or garden spot! Volunteers and gardeners will be o
 n hand to help with selections and to give advice about placement\, care a
 nd maintenance. \n\nCustomers can own 'a little bit of Aldridge Gardens' w
 hen they buy a pass-along plant that lived there! We are going to have man
 y plants with an Aldridge Gardens heritage. In addition\, we'll also have 
 many more from members and friends of the gardens!\n\nOur main feature is 
 always the 'Snowflake' hydrangea\, but shoppers can also choose from a hos
 t of others. Shoppers will find many varieties and sizes of hydrangeas at 
 our annual Spring Plant Sale! \n\nMembers get 10% off all purchases with t
 heir membership card!
DTSTART;TZID=America/Chicago:20200502T090000
DTEND;TZID=America/Chicago:20200502T120000
LOCATION:
SUMMARY:Annual Spring Plant Sale
END:VEVENT
END:VCALENDAR
