BEGIN:VCALENDAR
VERSION:2.0
PRODID:-//aldridgegardens.com//NONSGML kigkonsult.se iCalcreator 2.30.10//
CALSCALE:GREGORIAN
METHOD:PUBLISH
UID:2fa8f852-a9cf-4621-94e6-c3d824726b9f
X-WR-CALDESC:<b>CANCELLED Due to the COVID-19 event.</b>\n\nThe 'Bonsai Soc
 iety Members' Workshop' will be Saturday\, May 2nd beginning at 9 a.m. We'
 ll plan to meet in our new Education Building. Please bring your trees to 
 work on with John.  If you are not yet a Bonsai Member\, and are intereste
 d\, you are welcome to join and learn about the art of Bonsai.\n
X-WR-RELCALID:6ee7cc662301113a4260de0a3fe88ffa
X-WR-TIMEZONE:America/Chicago
BEGIN:VTIMEZONE
TZID:America/Chicago
BEGIN:STANDARD
TZNAME:CST
DTSTART:20191103T020000
TZOFFSETFROM:-0500
TZOFFSETTO:-0600
RDATE:20201101T020000
END:STANDARD
BEGIN:DAYLIGHT
TZNAME:CDT
DTSTART:20200308T020000
TZOFFSETFROM:-0600
TZOFFSETTO:-0500
RDATE:20210314T020000
END:DAYLIGHT
END:VTIMEZONE
BEGIN:VEVENT
UID:fd466ac8-b02d-4c77-a2c8-b7922d08b5b1
DTSTAMP:20260420T183332Z
DESCRIPTION:<b>CANCELLED Due to the COVID-19 event.</b>\n\nThe 'Bonsai Soci
 ety Members' Workshop' will be Saturday\, May 2nd beginning at 9 a.m. We'l
 l plan to meet in our new Education Building. Please bring your trees to w
 ork on with John.  If you are not yet a Bonsai Member\, and are interested
 \, you are welcome to join and learn about the art of Bonsai.\n
DTSTART;TZID=America/Chicago:20200502T090000
DTEND;TZID=America/Chicago:20200502T120000
LOCATION:Education Building
SUMMARY:Bonsai Society Members' Workshop
END:VEVENT
END:VCALENDAR
